BEGIN:VCALENDAR
VERSION:2.0
PRODID:-//RKM Mumbai - ECPv6.15.16//NONSGML v1.0//EN
CALSCALE:GREGORIAN
METHOD:PUBLISH
X-ORIGINAL-URL:https://mumbairkm.org
X-WR-CALDESC:Events for RKM Mumbai
REFRESH-INTERVAL;VALUE=DURATION:PT1H
X-Robots-Tag:noindex
X-PUBLISHED-TTL:PT1H
BEGIN:VTIMEZONE
TZID:Asia/Kolkata
BEGIN:STANDARD
TZOFFSETFROM:+0530
TZOFFSETTO:+0530
TZNAME:IST
DTSTART:20200101T000000
END:STANDARD
END:VTIMEZONE
BEGIN:VEVENT
DTSTART;VALUE=DATE:20211011
DTEND;VALUE=DATE:20211017
DTSTAMP:20260424T210500
CREATED:20210925T112156Z
LAST-MODIFIED:20211006T100915Z
UID:23125-1633910400-1634428799@mumbairkm.org
SUMMARY:SRI SRI DURGA PUJA
DESCRIPTION:IMPORTANT NOTICE Temple will remain closed for Devotees/Public for Darshan from 10th October to 15th October 2021 during Sri Sri Durga Puja as per MCGM guidelines on Navaratri public celebration. \nInconvenience caused is regretted. \nHowever\, live streaming of the entire Sri Sri Durga Puja event would be made through the link www.youtube.com/rkmkhar/live. or you can visit our YouTube channel “rkmkhar” \n \nSHASHTHI - MONDAY\, 11TH OCTOBER 2021\n06.40 a.m.      Kalparambha \n06.40 p.m.      Bodhan\, Amantran & Adhivas\nSAPTAMI - TUESDAY\, 12TH OCTOBER 2021\n06.40 a.m.       Saptami Puja\nMAHASHTAMI - WEDNESDAY\, 13TH OCTOBER 2021\n06.40 a.m.         Ashtami Puja\n09.30 a.m.         KUMARI PUJA\n07.44 p.m. to 08.32 p.m.  SANDHI PUJA\nMAHANAVAMI - THURSDAY\, 14TH OCTOBER 2021\n06.40 a.m.             Puja\n12.45 p.m.             HAVAN\nVIJAYADASHAMI - FRIDAY\, 15TH OCTOBER 2021\n07.30 a.m.             Dashami Puja \n08.50 a.m.             Pushpanjali \n09.15 a.m.             Darpan Visarjan\n04.00 p.m.            Immersion of image at Gandhi Ghat\, Juhu\n \nCLICK HERE TO WATCH DURGA PUJA ONLINE \nDOWNLOAD PROGRAMME DETAILS
URL:https://mumbairkm.org/event/sri-sri-durga-puja/
ATTACH;FMTTYPE=image/jpeg:https://mumbairkm.org/wp-content/uploads/2021/09/SAI_5994-scaled.jpg
END:VEVENT
BEGIN:VEVENT
DTSTART;TZID=Asia/Kolkata:20211016T170000
DTEND;TZID=Asia/Kolkata:20211016T183000
DTSTAMP:20260424T210500
CREATED:20211008T085236Z
LAST-MODIFIED:20211008T085236Z
UID:23145-1634403600-1634409000@mumbairkm.org
SUMMARY:Ekadasi / Ram Naam Sankirtanam
DESCRIPTION:Ekadasi is one of the regular festivals celebrated in all centres of the Ramakrishna Math & Ramakrishna Mission across the world and Ramnama Sankirtanam is sung by the congregation on this day.\nThe singing of this Sankirtanam was started by Srimat Swami Brahmanandaji Maharaj who was the spiritual son of Sri Ramakrishna. He was also the first President of the Ramakrishna Sangha.\nOnce during the singing of the Sankirtanam in the Ramakrishna Mission Sevashrama at Varanasi\, Swami Brahmanandaji Maharaj had the Darshan of Sri Hanuman.\nThe 108 slokas of the Ramnama Sankirtanam\, contain a brief and succinct description of the Divine Play of Maryada Purshottam Sri Rama – as if the ocean has been filled into a small pot! (The cassette/ CD for the Ramnama Sankirtanam is also available at the bookshop.)\nThe Ramnama Sankirtanam would be streamed live one hour before evening arati on our youtube channel www.youtube.com/rkmkhar
URL:https://mumbairkm.org/event/ekadasi-ram-naam-sankirtanam-19/
CATEGORIES:Ekadashi
ATTACH;FMTTYPE=image/jpeg:https://mumbairkm.org/wp-content/uploads/2021/01/ekadashi.jpg
END:VEVENT
END:VCALENDAR