BEGIN:VCALENDAR
VERSION:2.0
PRODID:-//RKM Mumbai - ECPv6.15.16//NONSGML v1.0//EN
CALSCALE:GREGORIAN
METHOD:PUBLISH
X-ORIGINAL-URL:https://mumbairkm.org
X-WR-CALDESC:Events for RKM Mumbai
REFRESH-INTERVAL;VALUE=DURATION:PT1H
X-Robots-Tag:noindex
X-PUBLISHED-TTL:PT1H
BEGIN:VTIMEZONE
TZID:Asia/Kolkata
BEGIN:STANDARD
TZOFFSETFROM:+0530
TZOFFSETTO:+0530
TZNAME:IST
DTSTART:20200101T000000
END:STANDARD
END:VTIMEZONE
BEGIN:VEVENT
DTSTART;TZID=Asia/Kolkata:20211224T180000
DTEND;TZID=Asia/Kolkata:20211224T203000
DTSTAMP:20260422T182334
CREATED:20211213T105654Z
LAST-MODIFIED:20211213T110450Z
UID:23546-1640368800-1640377800@mumbairkm.org
SUMMARY:CHRISTMAS EVE
DESCRIPTION:CHRISTMAS EVE CELEBRATION  \nFRIDAY\, 24TH DECEMBER 2021 \n\n\n\n\n\nTime\nProgramme\n\n\n\n\n6.15 pm\nEvening Arati of Bhagawan Sri Ramakrishna\n\n\n6.45 pm\nWorship of Lord Jesus Christ and Christmas Carols\n\n\n7.00 pm\nDiscourse on Importance of Christmas Eve in Ramakrishna Order and Reading from The Holy Bible (in English)\n\n\n7.30 pm\nClosing Song\n\n\n\n\nAs per the guidelines issued by the Maharashtra Government on Temple Reopening\, devotees/public can have physical darshan\, but sitting in the Temple is not allowed.  \nLive streaming of Christmas Eve would be made through the link www.youtube.com/rkmkhar/live.
URL:https://mumbairkm.org/event/christmas-eve-2/
LOCATION:Ramakrishna Math and Ramakrishna Mission\, Ramakrishna Mission Marg 12th Road\, Khar (West)\, Mumbai\, Maharashtra\, 400052\, India
CATEGORIES:Celebrations
ATTACH;FMTTYPE=image/jpeg:https://mumbairkm.org/wp-content/uploads/2020/12/IMG_20191224_184715_1.jpg
ORGANIZER;CN="Ramakrishna Math":MAILTO:mumrkmweb@gmail.com
END:VEVENT
END:VCALENDAR