BEGIN:VCALENDAR
VERSION:2.0
PRODID:-//RKM Mumbai - ECPv6.15.16//NONSGML v1.0//EN
CALSCALE:GREGORIAN
METHOD:PUBLISH
X-ORIGINAL-URL:https://mumbairkm.org
X-WR-CALDESC:Events for RKM Mumbai
REFRESH-INTERVAL;VALUE=DURATION:PT1H
X-Robots-Tag:noindex
X-PUBLISHED-TTL:PT1H
BEGIN:VTIMEZONE
TZID:Asia/Kolkata
BEGIN:STANDARD
TZOFFSETFROM:+0530
TZOFFSETTO:+0530
TZNAME:IST
DTSTART:20200101T000000
END:STANDARD
END:VTIMEZONE
BEGIN:VEVENT
DTSTART;VALUE=DATE:20211226
DTEND;VALUE=DATE:20211227
DTSTAMP:20260422T165426
CREATED:20211207T094317Z
LAST-MODIFIED:20211223T115424Z
UID:23521-1640476800-1640563199@mumbairkm.org
SUMMARY:Holy Mother Tithi Puja
DESCRIPTION:Ma Sarada Devi Tithi Puja\nHoly Mother Tithi Puja will be celebrated on Sunday\, 26th December 2021. \nIMPORTANT NOTICE\nAs per the guidelines issued by the Maharashtra Government on Temple Reopening\, devotees/public can have physical darshan\, but sitting in the Temple is not allowed. Live streaming of the functions would be made through the link www.youtube.com/rkmkhar/live. \nमंदिर पुन्हा उघडण्याबाबत महाराष्ट्र सरकारने जारी केलेल्या मार्गदर्शक तत्त्वांनुसार\, भक्त/जनता प्रत्यक्ष दर्शन घेऊ शकतात\, परंतु त्यांस मंदिरात बसण्याची परवानगी नाही. सर्व कार्यक्रम आमच्या यूट्यूब चॅनल च्या माध्यमातून (www.youtube.com/rkmkhar/live) थेट प्रवाहित केले जातील. \n\nLive streaming of the function would be made through the link www.youtube.com/rkmkhar/live. \n\nClick Here To Download the Programme Details\n.
URL:https://mumbairkm.org/event/23521/
CATEGORIES:Celebrations,Festivals
ATTACH;FMTTYPE=image/jpeg:https://mumbairkm.org/wp-content/uploads/2021/12/MATAJI-with-lotus-1600x900-1.jpg
END:VEVENT
END:VCALENDAR