BEGIN:VCALENDAR
VERSION:2.0
PRODID:-//RKM Mumbai - ECPv6.15.16//NONSGML v1.0//EN
CALSCALE:GREGORIAN
METHOD:PUBLISH
X-ORIGINAL-URL:https://mumbairkm.org
X-WR-CALDESC:Events for RKM Mumbai
REFRESH-INTERVAL;VALUE=DURATION:PT1H
X-Robots-Tag:noindex
X-PUBLISHED-TTL:PT1H
BEGIN:VTIMEZONE
TZID:Asia/Kolkata
BEGIN:STANDARD
TZOFFSETFROM:+0530
TZOFFSETTO:+0530
TZNAME:IST
DTSTART:20210101T000000
END:STANDARD
END:VTIMEZONE
BEGIN:VEVENT
DTSTART;VALUE=DATE:20220205
DTEND;VALUE=DATE:20220207
DTSTAMP:20260422T125409
CREATED:20220127T061335Z
LAST-MODIFIED:20220202T055046Z
UID:23715-1644019200-1644191999@mumbairkm.org
SUMMARY:Sri Saraswati Puja
DESCRIPTION:IMPORTANT NOTICE\nAs per the guidelines issued by the MCGM on Temple Reopening\, devotees/public can have physical darshan\, but sitting in the Temple is not allowed. Live streaming of the functions would be made through the link www.youtube.com/rkmkhar/live. \nमंदिर पुन्हा उघडण्याबाबत मुंबई महानगरपालिकेने जारी केलेल्या मार्गदर्शक तत्त्वांनुसार\, भक्त/जनता प्रत्यक्ष दर्शन घेऊ शकतात\, परंतु त्यांस मंदिरात बसण्याची परवानगी नाही. सर्व कार्यक्रम आमच्या यूट्यूब चॅनल च्या माध्यमातून (www.youtube.com/rkmkhar/live) थेट प्रवाहित केले जातील.
URL:https://mumbairkm.org/event/sri-saraswati-puja/
ATTACH;FMTTYPE=image/jpeg:https://mumbairkm.org/wp-content/uploads/2021/02/SARASWATI-MATA.jpg
END:VEVENT
END:VCALENDAR