BEGIN:VCALENDAR
VERSION:2.0
PRODID:-//RKM Mumbai - ECPv6.15.16//NONSGML v1.0//EN
CALSCALE:GREGORIAN
METHOD:PUBLISH
X-WR-CALNAME:RKM Mumbai
X-ORIGINAL-URL:https://mumbairkm.org
X-WR-CALDESC:Events for RKM Mumbai
REFRESH-INTERVAL;VALUE=DURATION:PT1H
X-Robots-Tag:noindex
X-PUBLISHED-TTL:PT1H
BEGIN:VTIMEZONE
TZID:Asia/Kolkata
BEGIN:STANDARD
TZOFFSETFROM:+0530
TZOFFSETTO:+0530
TZNAME:IST
DTSTART:20210101T000000
END:STANDARD
END:VTIMEZONE
BEGIN:VEVENT
DTSTART;TZID=Asia/Kolkata:20220301T193000
DTEND;TZID=Asia/Kolkata:20220302T070000
DTSTAMP:20260424T152715
CREATED:20220225T111206Z
LAST-MODIFIED:20220225T112638Z
UID:23781-1646163000-1646204400@mumbairkm.org
SUMMARY:MAHASHIVARATRI 2022
DESCRIPTION:MAHASHIVARATRI\nTuesday\, 1st March 2022\n\n\n\nPuja Time\nParticulars\n\n\n\n\n8.15 pm\nPuja Starts-1st Prahar\n\n\n11.00 pm\n2nd Prahar\n\n\n1.00 am\n3rd Prahar\n\n\n3.00 am\n4th Prahar\n\n\n4.30 am\nHavan\n\n\n \n 
URL:https://mumbairkm.org/event/mahashivaratri-2022/
CATEGORIES:Ekadashi
ATTACH;FMTTYPE=image/jpeg:https://mumbairkm.org/wp-content/uploads/2021/02/Mahashivratri-2020-website.jpg
END:VEVENT
END:VCALENDAR