BEGIN:VCALENDAR
VERSION:2.0
PRODID:-//RKM Mumbai - ECPv6.15.16//NONSGML v1.0//EN
CALSCALE:GREGORIAN
METHOD:PUBLISH
X-ORIGINAL-URL:https://mumbairkm.org
X-WR-CALDESC:Events for RKM Mumbai
REFRESH-INTERVAL;VALUE=DURATION:PT1H
X-Robots-Tag:noindex
X-PUBLISHED-TTL:PT1H
BEGIN:VTIMEZONE
TZID:Asia/Kolkata
BEGIN:STANDARD
TZOFFSETFROM:+0530
TZOFFSETTO:+0530
TZNAME:IST
DTSTART:20210101T000000
END:STANDARD
END:VTIMEZONE
BEGIN:VEVENT
DTSTART;VALUE=DATE:20220304
DTEND;VALUE=DATE:20220305
DTSTAMP:20260424T152713
CREATED:20220225T074940Z
LAST-MODIFIED:20220225T080131Z
UID:23753-1646352000-1646438399@mumbairkm.org
SUMMARY:Sri Ramakrishna Dev Tithi Puja
DESCRIPTION:  \nClick here to download the programme details
URL:https://mumbairkm.org/event/sri-ramakrishna-dev-tithi-puja/
CATEGORIES:Festivals
ATTACH;FMTTYPE=image/jpeg:https://mumbairkm.org/wp-content/uploads/2020/10/thakur-resized-scaled.jpg
END:VEVENT
END:VCALENDAR