BEGIN:VCALENDAR
VERSION:2.0
PRODID:-//RKM Mumbai - ECPv6.15.16//NONSGML v1.0//EN
CALSCALE:GREGORIAN
METHOD:PUBLISH
X-ORIGINAL-URL:https://mumbairkm.org
X-WR-CALDESC:Events for RKM Mumbai
REFRESH-INTERVAL;VALUE=DURATION:PT1H
X-Robots-Tag:noindex
X-PUBLISHED-TTL:PT1H
BEGIN:VTIMEZONE
TZID:UTC
BEGIN:STANDARD
TZOFFSETFROM:+0000
TZOFFSETTO:+0000
TZNAME:UTC
DTSTART:20210101T000000
END:STANDARD
END:VTIMEZONE
BEGIN:VEVENT
DTSTART;TZID=UTC:20220409T160000
DTEND;TZID=UTC:20220409T190000
DTSTAMP:20260422T070534
CREATED:20220329T101830Z
LAST-MODIFIED:20220329T121115Z
UID:23833-1649520000-1649530800@mumbairkm.org
SUMMARY:Annual Public Celebration
DESCRIPTION:Annual Celebrations of the Birth Anniversaries of\nSri Ramakrishna\,\nSri Sri Sarada Devi\nand\nSwami Vivekananda\nVenue : Vivekananda Auditorium\nOn Saturday\, 9th April 2022 at 4:00 p.m. PROGRAMME DETAILS *Please get yourself registered for the functions through email\, phone\, or in person. There is no registration fee* \nContact: 022-61818000; E-mail: mumbairkm@gmail.com
URL:https://mumbairkm.org/event/annual-public-celebration/
CATEGORIES:Celebrations,Festivals,Spiritual
ATTACH;FMTTYPE=image/jpeg:https://mumbairkm.org/wp-content/uploads/2022/03/THAKUR-MA-SWAMIJI-scaled.jpg
END:VEVENT
END:VCALENDAR