BEGIN:VCALENDAR
VERSION:2.0
PRODID:-//RKM Mumbai - ECPv6.15.16//NONSGML v1.0//EN
CALSCALE:GREGORIAN
METHOD:PUBLISH
X-ORIGINAL-URL:https://mumbairkm.org
X-WR-CALDESC:Events for RKM Mumbai
REFRESH-INTERVAL;VALUE=DURATION:PT1H
X-Robots-Tag:noindex
X-PUBLISHED-TTL:PT1H
BEGIN:VTIMEZONE
TZID:UTC
BEGIN:STANDARD
TZOFFSETFROM:+0000
TZOFFSETTO:+0000
TZNAME:UTC
DTSTART:20210101T000000
END:STANDARD
END:VTIMEZONE
BEGIN:VEVENT
DTSTART;TZID=UTC:20220506T190000
DTEND;TZID=UTC:20220506T203000
DTSTAMP:20260421T222114
CREATED:20220505T123335Z
LAST-MODIFIED:20220505T123335Z
UID:23954-1651863600-1651869000@mumbairkm.org
SUMMARY:Adi Shankaracharya Jayanti
DESCRIPTION:There will be a discourse on the life & teachings of Sri Adi Shankaracharya after evening arati by Swami Kshitishananda
URL:https://mumbairkm.org/event/adi-shankaracharya-jayanti/
ATTACH;FMTTYPE=image/jpeg:https://mumbairkm.org/wp-content/uploads/2022/05/adi-shankaracharya.jpg
END:VEVENT
END:VCALENDAR