BEGIN:VCALENDAR
VERSION:2.0
PRODID:-//RKM Mumbai - ECPv6.15.16//NONSGML v1.0//EN
CALSCALE:GREGORIAN
METHOD:PUBLISH
X-WR-CALNAME:RKM Mumbai
X-ORIGINAL-URL:https://mumbairkm.org
X-WR-CALDESC:Events for RKM Mumbai
REFRESH-INTERVAL;VALUE=DURATION:PT1H
X-Robots-Tag:noindex
X-PUBLISHED-TTL:PT1H
BEGIN:VTIMEZONE
TZID:Asia/Kolkata
BEGIN:STANDARD
TZOFFSETFROM:+0530
TZOFFSETTO:+0530
TZNAME:IST
DTSTART:20210101T000000
END:STANDARD
END:VTIMEZONE
BEGIN:VEVENT
DTSTART;TZID=Asia/Kolkata:20220516T190000
DTEND;TZID=Asia/Kolkata:20220516T203000
DTSTAMP:20260422T011421
CREATED:20220505T121828Z
LAST-MODIFIED:20220505T121828Z
UID:23952-1652727600-1652733000@mumbairkm.org
SUMMARY:Sri Buddhadeva Jayanti
DESCRIPTION:There will be a discourse on the life & teachings of Gautam Buddha by Swami Dayamurtyananda after evening arati.
URL:https://mumbairkm.org/event/sri-buddhadeva-jayanti-2/
ATTACH;FMTTYPE=image/jpeg:https://mumbairkm.org/wp-content/uploads/2021/05/Gautam_Buddha_2020.jpg
END:VEVENT
END:VCALENDAR