BEGIN:VCALENDAR
VERSION:2.0
PRODID:-//RKM Mumbai - ECPv6.15.16//NONSGML v1.0//EN
CALSCALE:GREGORIAN
METHOD:PUBLISH
X-WR-CALNAME:RKM Mumbai
X-ORIGINAL-URL:https://mumbairkm.org
X-WR-CALDESC:Events for RKM Mumbai
REFRESH-INTERVAL;VALUE=DURATION:PT1H
X-Robots-Tag:noindex
X-PUBLISHED-TTL:PT1H
BEGIN:VTIMEZONE
TZID:Asia/Kolkata
BEGIN:STANDARD
TZOFFSETFROM:+0530
TZOFFSETTO:+0530
TZNAME:IST
DTSTART:20210101T000000
END:STANDARD
END:VTIMEZONE
BEGIN:VEVENT
DTSTART;TZID=Asia/Kolkata:20220529T210000
DTEND;TZID=Asia/Kolkata:20220529T233000
DTSTAMP:20260421T222128
CREATED:20220514T060431Z
LAST-MODIFIED:20220514T074741Z
UID:23964-1653858000-1653867000@mumbairkm.org
SUMMARY:Shodashi Puja
DESCRIPTION:SHODASHI PUJA\nSunday\, 29th June 2022\nProgramme Details\n09.00 p.m.  Special Puja\, Bhajan\n11.00 p.m.  Arati\n(The puja will be streamed live on our youtube channel www.youtube.com/rkmkhar)\n \n\n\n\nHistory and Significance: \nOn 5th June 1872\, on Phalaharini Kali-puja night\, Bhagawan Sri Ramakrishna worshipped Sarada Devi as Shodashi\, the Mother of the Universe. The Mother of the Universe is variously worshipped —as Durga\, Kali\, Tara\, Shodashi and so on. But\, in his room he uttered the “mantras” which are related to Shodashi and worshipped Sarada Devi duly with flowers\, bel leaves and sweets\, among other things.
URL:https://mumbairkm.org/event/shodashi-puja-2/
ATTACH;FMTTYPE=image/jpeg:https://mumbairkm.org/wp-content/uploads/2021/05/SHODASHI-PUJA-FALAHARINI-KALI-PUJA.jpg
END:VEVENT
END:VCALENDAR