BEGIN:VCALENDAR
VERSION:2.0
PRODID:-//RKM Mumbai - ECPv6.15.16//NONSGML v1.0//EN
CALSCALE:GREGORIAN
METHOD:PUBLISH
X-ORIGINAL-URL:https://mumbairkm.org
X-WR-CALDESC:Events for RKM Mumbai
REFRESH-INTERVAL;VALUE=DURATION:PT1H
X-Robots-Tag:noindex
X-PUBLISHED-TTL:PT1H
BEGIN:VTIMEZONE
TZID:UTC
BEGIN:STANDARD
TZOFFSETFROM:+0000
TZOFFSETTO:+0000
TZNAME:UTC
DTSTART:20210101T000000
END:STANDARD
END:VTIMEZONE
BEGIN:VEVENT
DTSTART;VALUE=DATE:20220623
DTEND;VALUE=DATE:20220702
DTSTAMP:20260421T141931
CREATED:20220520T075458Z
LAST-MODIFIED:20220520T075603Z
UID:23966-1655942400-1656719999@mumbairkm.org
SUMMARY:Visit of Vice-President Maharaj
DESCRIPTION:MOST REVERED SRIMAT SWAMI GIRISHANANDAJI MAHARAJ’S VISIT\nfrom 23-06-2022 to 01-07-2022 We are happy to announce the visit of Revered Swami Girishanandaji Maharaj\, Vice-President Ramakrishna Math and Ramakrishna Mission\, Belur Math. He has kindly consented to initiate (Mantra Diksha) the seekers of spiritual life on 25th\, 26th & 28th June 2022 respectively. Those who have already registered their names and those who want to register for Mantra Diksha should immediately contact our main office during the office hours from 8.30 a.m. to 11.30 a.m. & from 4.00 p.m. to 7.00 p.m. on all days. \n  \n 
URL:https://mumbairkm.org/event/visit-of-vice-president-maharaj-2/
CATEGORIES:Spiritual
ATTACH;FMTTYPE=image/jpeg:https://mumbairkm.org/wp-content/uploads/2022/05/GIRISHANANDA-IMAGE-for-website.jpg
END:VEVENT
END:VCALENDAR