BEGIN:VCALENDAR
VERSION:2.0
PRODID:-//RKM Mumbai - ECPv6.15.16//NONSGML v1.0//EN
CALSCALE:GREGORIAN
METHOD:PUBLISH
X-ORIGINAL-URL:https://mumbairkm.org
X-WR-CALDESC:Events for RKM Mumbai
REFRESH-INTERVAL;VALUE=DURATION:PT1H
X-Robots-Tag:noindex
X-PUBLISHED-TTL:PT1H
BEGIN:VTIMEZONE
TZID:Asia/Kolkata
BEGIN:STANDARD
TZOFFSETFROM:+0530
TZOFFSETTO:+0530
TZNAME:IST
DTSTART:20210101T000000
END:STANDARD
END:VTIMEZONE
BEGIN:VEVENT
DTSTART;TZID=Asia/Kolkata:20220925T060000
DTEND;TZID=Asia/Kolkata:20220925T180000
DTSTAMP:20260421T104537
CREATED:20220913T124241Z
LAST-MODIFIED:20220913T124241Z
UID:24203-1664085600-1664128800@mumbairkm.org
SUMMARY:Japa Yajna
DESCRIPTION:Ramakrishna Math\, Mumbai is observing “AKHANDA JAPA YAJNA ANUSHTHAN” for Devotees on SUNDAY\, 25TH SEPTEMBER 2022 From : 6.00 am. To 6.00 pm. at Universal Temple of Bhagawan Sri Ramakrishna. \n\nThe minimum Time Slot is for 1 hour.\nMultiple & continuous slots can be selected.\nRegister the name(s) with time slot preference at our office between 9.00 am to 11.30 am and 4.30 pm to 6.30. pm or over phone 022-61818000 or email us at mumbairkm@gmail.com before 21st September 2022.\n\n  \n(Note: Chairs will be provided for Senior Citizens or those in need)
URL:https://mumbairkm.org/event/japa-yajna/
CATEGORIES:Ekadashi
ATTACH;FMTTYPE=image/jpeg:https://mumbairkm.org/wp-content/uploads/2022/01/swami-vivekanand_1484202359.jpeg
END:VEVENT
BEGIN:VEVENT
DTSTART;TZID=Asia/Kolkata:20220925T190000
DTEND;TZID=Asia/Kolkata:20220925T210000
DTSTAMP:20260421T104537
CREATED:20220827T120518Z
LAST-MODIFIED:20220827T120518Z
UID:24199-1664132400-1664139600@mumbairkm.org
SUMMARY:Swami Akhandananda Tithi Puja
DESCRIPTION:SWAMI AKHANDANANDA\nPre-monastic name : Gangadhar Gangopadhyay\nDate of Birth : 30 September 1864\nPlace of Birth : Kolkata \n\n\nBorn in an orthodox family Gangadhar lived a pure\, disciplined life from boyhood. At the age of nineteen he went to Dakshineswar Kali temple. Sri Ramakrishna received him cordially and gave him several instructions. Since then he started visiting the Master and also cultivated friendship with the other young disciples\, particularly with Naren (later\, Swami Vivekananda). \nWhen the Baranagar Math was formed after Sri Ramakrishna’s mahasamadhi\, Gangadhar did not join it immediately. Instead\, he set out on a long pilgrimage in 1886 which took him to different places in the Himalayas and Tibet. After three and a half years\, he returned to Baranagar monastery in June 1890. He then took sannyasa vows formally and assumed the name Akhandananda. \n\n\nIn mid-July 1890 Swami Akhandananda again set out\, this time in the company of Swami Vivekananda\, on a pilgrimage which took them to different places in the Himalayas. When Swamiji left for the West\, Akhandananda continued his wanderings in western India. Towards the end of 1895 he returned to the Math which had been shifted to Alambazar in Kolkata. When Swami Vivekananda\, after his return from the West\, reached Kolkata in February 1897\, Swami Akhandananda enthusiastically participated in the reception accorded to Swamiji.\n\n\n\nAfter a few days\, when Swamiji left for Darjeeling\, Akhandananda travelled towards Murshidabad. Reaching there he was distressed to find a famine raging. He immediately started famine relief work with whatever he could collect. Later Swami Vivekananda sent more funds and the relief operation was organized on a full scale. This was the first relief operation organized by Ramakrishna Mission. \n\n\n\n\n\n\nAfter relief work Akhandananda started an ashrama with an orphanage in Sargachhi\, in the Murshidabad district. He served the orphan boys as manifestations of God. \nIn 1934\, after the passing away of Swami Shivananda\, Swami Akhandananda became the President of Ramakrishna Math and Mission. From that time he divided his time between Belur Math and Sargachhi. He participated in the celebration of the Birth Centenary of Sri Ramakrishna in 1936. Owing to old-age ailments he became weak. He passed away on 7 February 1937. \n\n\n\n\n\nSource: https://belurmath.org/swami-akhandananda/ \nThere will be a discourse on the life & teachings of Swami Akhandanandaji Maharaj after evening arati by Swami Devakantyananda. The discourse will be streamed live on our YouTube channel https://www.youtube.com/rkmkhar/live
URL:https://mumbairkm.org/event/swami-akhandananda-tithi-puja-2/
ATTACH;FMTTYPE=image/jpeg:https://mumbairkm.org/wp-content/uploads/2021/09/Swami-Akhandananda-event2.jpg
END:VEVENT
END:VCALENDAR