BEGIN:VCALENDAR
VERSION:2.0
PRODID:-//RKM Mumbai - ECPv6.15.16//NONSGML v1.0//EN
CALSCALE:GREGORIAN
METHOD:PUBLISH
X-ORIGINAL-URL:https://mumbairkm.org
X-WR-CALDESC:Events for RKM Mumbai
REFRESH-INTERVAL;VALUE=DURATION:PT1H
X-Robots-Tag:noindex
X-PUBLISHED-TTL:PT1H
BEGIN:VTIMEZONE
TZID:Asia/Kolkata
BEGIN:STANDARD
TZOFFSETFROM:+0530
TZOFFSETTO:+0530
TZNAME:IST
DTSTART:20210101T000000
END:STANDARD
END:VTIMEZONE
BEGIN:VEVENT
DTSTART;VALUE=DATE:20221001
DTEND;VALUE=DATE:20221006
DTSTAMP:20260421T092856
CREATED:20220913T125327Z
LAST-MODIFIED:20221003T113923Z
UID:24208-1664582400-1665014399@mumbairkm.org
SUMMARY:SRI SRI DURGA PUJA
DESCRIPTION:Sri Sri Durga Puja will be celebrated at the Ramakrishna Math & Ramakrishna Mission premises from Saturday\, 1st October 2022 to Wednesday\, 5th October 2022 as per the given programme details. All are cordially invited to attend the puja and other functions. \n  \n \nSHASHTHI - SATURDAY\, 1ST OCTOBER 2022\n06.40 a.m.      Kalparambha \n06.40 p.m.      Bodhan\, Amantran & Adhivas\nSAPTAMI - SUNDAY\, 2ND OCTOBER 2022\n06.40 a.m.       Saptami Puja\nMAHASHTAMI - MONDAY\, 3RD OCTOBER 2022\n06.40 a.m.         Ashtami Puja\n09.30 a.m.         KUMARI PUJA\n04.14 p.m. to 05.02 p.m.  SANDHI PUJA\nMAHANAVAMI - TUESDAY\, 4TH OCTOBER 2022\n06.40 a.m.             Puja\n12.45 p.m.             HAVAN\nVIJAYADASHAMI - WEDNESDAY\, 5TH OCTOBER 2022\n07.30 a.m.             Dashami Puja \n08.50 a.m.             Pushpanjali \n09.15 a.m.             Darpan Visarjan\n04.00 p.m.            Immersion of image at Gandhi Ghat\, Juhu\nDOWNLOAD PROGRAMME DETAILS
URL:https://mumbairkm.org/event/sri-sri-durga-puja-2/
ATTACH;FMTTYPE=image/jpeg:https://mumbairkm.org/wp-content/uploads/2021/09/SAI_5994-scaled.jpg
END:VEVENT
END:VCALENDAR