BEGIN:VCALENDAR
VERSION:2.0
PRODID:-//RKM Mumbai - ECPv6.15.16//NONSGML v1.0//EN
CALSCALE:GREGORIAN
METHOD:PUBLISH
X-ORIGINAL-URL:https://mumbairkm.org
X-WR-CALDESC:Events for RKM Mumbai
REFRESH-INTERVAL;VALUE=DURATION:PT1H
X-Robots-Tag:noindex
X-PUBLISHED-TTL:PT1H
BEGIN:VTIMEZONE
TZID:Asia/Kolkata
BEGIN:STANDARD
TZOFFSETFROM:+0530
TZOFFSETTO:+0530
TZNAME:IST
DTSTART:20210101T000000
END:STANDARD
END:VTIMEZONE
BEGIN:VEVENT
DTSTART;TZID=Asia/Kolkata:20221105T190000
DTEND;TZID=Asia/Kolkata:20221105T203000
DTSTAMP:20260420T222552
CREATED:20221101T092402Z
LAST-MODIFIED:20221101T092402Z
UID:24437-1667674800-1667680200@mumbairkm.org
SUMMARY:Swami Subodhananda Jayanti
DESCRIPTION:SWAMI SUBODHANANDA \nPre-monastic name : Subodh Chandra Ghosh endearingly called ‘Khoka Maharaj’ \nDate of Birth : 8 November 1867. \nPlace of Birth : Kolkata \nBorn in an affluent family\, Subodh was spiritually inclined from boyhood. While studying in class eight he heard about Sri Ramakrishna from his father who was a follower of Brahmo Samaj. One day in 1884 Subodh walked all the way to Dakshineswar in the company of a friend. Sri Ramakrishna received them with great love. After that Subodh went to the Master several times. Owing to the opposition of his parents\, he could not stay with Sri Ramakrishna or serve him during his last illness. But the Master understood his difficulty and made him his own through his boundless love. \nHe joined the Baranagar Math and was ordained a sannyasin bearing the name Subodhananda. Since he was only nineteen and the youngest of the group\, he was endearingly called ‘Khoka’ (which means ‘child’) by Swamiji and other monastic brothers. He spent several years travelling in different parts of India performing tapasya. After Swami Vivekananda’s return from the West when Belur Math monastery was established\, he felt himself quite at home there. He visited East Bengal (now Bangladesh) twice and inspired many people with his talks and loving conduct. All through his life he combined in himself the simplicity of a child and the wisdom of an illumined soul. He passed away in Belur Math on 2 December 1932.\nSource: https://belurmath.org/swami-subodhananda/ \nThere will be a discourse on the life & teachings of Swami Subodhanandaji Maharaj after evening arati by Swami Tannamananda. The discourse will be streamed live on our YouTube channel https://www.youtube.com/rkmkhar/live\n 
URL:https://mumbairkm.org/event/swami-subodhananda-jayanti-2/
LOCATION:Ramakrishna Math and Ramakrishna Mission\, Ramakrishna Mission Marg 12th Road\, Khar (West)\, Mumbai\, Maharashtra\, 400052\, India
ATTACH;FMTTYPE=image/jpeg:https://mumbairkm.org/wp-content/uploads/2021/11/Swami-Subodhananda-1200x900-1.jpg
ORGANIZER;CN="Ramakrishna Math":MAILTO:mumrkmweb@gmail.com
END:VEVENT
END:VCALENDAR