BEGIN:VCALENDAR
VERSION:2.0
PRODID:-//RKM Mumbai - ECPv6.15.16//NONSGML v1.0//EN
CALSCALE:GREGORIAN
METHOD:PUBLISH
X-WR-CALNAME:RKM Mumbai
X-ORIGINAL-URL:https://mumbairkm.org
X-WR-CALDESC:Events for RKM Mumbai
REFRESH-INTERVAL;VALUE=DURATION:PT1H
X-Robots-Tag:noindex
X-PUBLISHED-TTL:PT1H
BEGIN:VTIMEZONE
TZID:Asia/Kolkata
BEGIN:STANDARD
TZOFFSETFROM:+0530
TZOFFSETTO:+0530
TZNAME:IST
DTSTART:20220101T000000
END:STANDARD
END:VTIMEZONE
BEGIN:VTIMEZONE
TZID:UTC
BEGIN:STANDARD
TZOFFSETFROM:+0000
TZOFFSETTO:+0000
TZNAME:UTC
DTSTART:20220101T000000
END:STANDARD
END:VTIMEZONE
BEGIN:VEVENT
DTSTART;TZID=Asia/Kolkata:20230903T173000
DTEND;TZID=Asia/Kolkata:20230903T190000
DTSTAMP:20260422T095433
CREATED:20230829T123751Z
LAST-MODIFIED:20230829T123913Z
UID:25367-1693762200-1693767600@mumbairkm.org
SUMMARY:Classical Bhajans by Swami Kripaghanananda
DESCRIPTION:
URL:https://mumbairkm.org/event/classical-bhajans-by-swami-kripaghanananda/
CATEGORIES:Celebrations,Online
ATTACH;FMTTYPE=image/jpeg:https://mumbairkm.org/wp-content/uploads/2023/08/WEBSITE-KRIPAGHANANANDA.jpg
END:VEVENT
BEGIN:VEVENT
DTSTART;TZID=Asia/Kolkata:20230907T200000
DTEND;TZID=Asia/Kolkata:20230907T233000
DTSTAMP:20260422T095433
CREATED:20230829T124132Z
LAST-MODIFIED:20230829T124932Z
UID:25373-1694116800-1694129400@mumbairkm.org
SUMMARY:Sri Krishna Janmashtami
DESCRIPTION:
URL:https://mumbairkm.org/event/sri-krishna-janmashtami-2/
CATEGORIES:Celebrations,Festivals
ATTACH;FMTTYPE=image/jpeg:https://mumbairkm.org/wp-content/uploads/2021/08/krishna-janmashtami.jpg
END:VEVENT
BEGIN:VEVENT
DTSTART;VALUE=DATE:20230917
DTEND;VALUE=DATE:20230918
DTSTAMP:20260422T095433
CREATED:20230902T085850Z
LAST-MODIFIED:20230902T095238Z
UID:25383-1694908800-1694995199@mumbairkm.org
SUMMARY:Spiritual Retreat (Sadhana Shibir)
DESCRIPTION:SPIRITUAL RETREAT\nSunday\, 17th September 2023*Please get yourself registered for the function through email\, phone\, or in person. There is no registration fee* \nContact: 022-61818000; E-mail: mumbairkm@gmail.com
URL:https://mumbairkm.org/event/spiritual-retreat-sadhana-shibir/
CATEGORIES:Celebrations,Festivals,Spiritual
ATTACH;FMTTYPE=image/jpeg:https://mumbairkm.org/wp-content/uploads/2022/03/SPIRITUAL-RETREAT-THUMBNAIL-FOR-WEBSITE.jpg
END:VEVENT
BEGIN:VEVENT
DTSTART;VALUE=DATE:20230919
DTEND;VALUE=DATE:20230922
DTSTAMP:20260422T095433
CREATED:20230823T094217Z
LAST-MODIFIED:20230823T102535Z
UID:25363-1695081600-1695340799@mumbairkm.org
SUMMARY:SRI SRI GANESH PUJA 2023
DESCRIPTION:
URL:https://mumbairkm.org/event/sri-sri-ganesh-puja-2022-2/
CATEGORIES:Celebrations,Festivals
ATTACH;FMTTYPE=image/jpeg:https://mumbairkm.org/wp-content/uploads/2021/08/ganesh-puja.jpg
END:VEVENT
END:VCALENDAR