BEGIN:VCALENDAR
VERSION:2.0
PRODID:-//RKM Mumbai - ECPv6.15.16//NONSGML v1.0//EN
CALSCALE:GREGORIAN
METHOD:PUBLISH
X-ORIGINAL-URL:https://mumbairkm.org
X-WR-CALDESC:Events for RKM Mumbai
REFRESH-INTERVAL;VALUE=DURATION:PT1H
X-Robots-Tag:noindex
X-PUBLISHED-TTL:PT1H
BEGIN:VTIMEZONE
TZID:Asia/Kolkata
BEGIN:STANDARD
TZOFFSETFROM:+0530
TZOFFSETTO:+0530
TZNAME:IST
DTSTART:20220101T000000
END:STANDARD
END:VTIMEZONE
BEGIN:VEVENT
DTSTART;TZID=Asia/Kolkata:20231203T160000
DTEND;TZID=Asia/Kolkata:20231203T200000
DTSTAMP:20260422T040808
CREATED:20231122T131712Z
LAST-MODIFIED:20231122T131712Z
UID:25586-1701619200-1701633600@mumbairkm.org
SUMMARY:Classical Music by Ruchira Kedar
DESCRIPTION:
URL:https://mumbairkm.org/event/classical-music-by-ruchira-kedar/
CATEGORIES:Celebrations,Online
ATTACH;FMTTYPE=image/jpeg:https://mumbairkm.org/wp-content/uploads/2023/11/Website-Ruchira-Kedar-Classical-Music.jpg
END:VEVENT
BEGIN:VEVENT
DTSTART;TZID=Asia/Kolkata:20231210T190000
DTEND;TZID=Asia/Kolkata:20231210T210000
DTSTAMP:20260422T040808
CREATED:20231122T131900Z
LAST-MODIFIED:20231122T132038Z
UID:25594-1702234800-1702242000@mumbairkm.org
SUMMARY:Flute Recital by Pt. Rajendra Kulkarni
DESCRIPTION:
URL:https://mumbairkm.org/event/flute-recital-by-pt-rajendra-kulkarni/
CATEGORIES:Celebrations,Online
ATTACH;FMTTYPE=image/jpeg:https://mumbairkm.org/wp-content/uploads/2023/11/Website-RAJENDRA-KULKARNI-FLUTE-RECITAL.jpg
END:VEVENT
BEGIN:VEVENT
DTSTART;TZID=Asia/Kolkata:20231216T170000
DTEND;TZID=Asia/Kolkata:20231217T190000
DTSTAMP:20260422T040808
CREATED:20231122T132339Z
LAST-MODIFIED:20231122T132339Z
UID:25596-1702746000-1702839600@mumbairkm.org
SUMMARY:Discourse by Prof. K. Ramasubramanian
DESCRIPTION:
URL:https://mumbairkm.org/event/discourse-by-prof-k-ramasubramanian/
CATEGORIES:Celebrations,Online
ATTACH;FMTTYPE=image/jpeg:https://mumbairkm.org/wp-content/uploads/2023/11/Website-Prof.-K.-Ramasubramanian.jpg
END:VEVENT
BEGIN:VEVENT
DTSTART;TZID=Asia/Kolkata:20231224T180000
DTEND;TZID=Asia/Kolkata:20231224T203000
DTSTAMP:20260422T040808
CREATED:20231221T114351Z
LAST-MODIFIED:20231221T114351Z
UID:25618-1703440800-1703449800@mumbairkm.org
SUMMARY:CHRISTMAS EVE
DESCRIPTION:CHRISTMAS EVE CELEBRATION  \nSUNDAY\, 24TH DECEMBER 2023 \n\n\n\n\n\nTime\nProgramme\n\n\n\n\n6.15 pm\nEvening Arati of Bhagawan Sri Ramakrishna\n\n\n6.45 pm\nWorship of Lord Jesus Christ and Christmas Carols\n\n\n7.00 pm\nDiscourse on Importance of Christmas Eve in Ramakrishna Order and Reading from The Holy Bible (in English)\n\n\n7.30 pm\nClosing Song\n\n\n\n\nLive streaming of Christmas Eve would be made through the link www.youtube.com/rkmkhar/live.
URL:https://mumbairkm.org/event/christmas-eve-4/
LOCATION:Ramakrishna Math and Ramakrishna Mission\, Ramakrishna Mission Marg 12th Road\, Khar (West)\, Mumbai\, Maharashtra\, 400052\, India
CATEGORIES:Celebrations
ATTACH;FMTTYPE=image/jpeg:https://mumbairkm.org/wp-content/uploads/2020/12/IMG_20191224_184715_1.jpg
ORGANIZER;CN="Ramakrishna Math":MAILTO:mumrkmweb@gmail.com
END:VEVENT
BEGIN:VEVENT
DTSTART;TZID=Asia/Kolkata:20231225T183000
DTEND;TZID=Asia/Kolkata:20231225T210000
DTSTAMP:20260422T040808
CREATED:20231221T115633Z
LAST-MODIFIED:20231221T115633Z
UID:25620-1703529000-1703538000@mumbairkm.org
SUMMARY:Instrumental Performances - Musical Evening
DESCRIPTION:
URL:https://mumbairkm.org/event/instrumental-performances-musical-evening/
CATEGORIES:Celebrations,Classes,Online,Spiritual
ATTACH;FMTTYPE=image/jpeg:https://mumbairkm.org/wp-content/uploads/2023/12/instrumental-performances-website.jpg
END:VEVENT
END:VCALENDAR