BEGIN:VCALENDAR
VERSION:2.0
PRODID:-//RKM Mumbai - ECPv6.15.16//NONSGML v1.0//EN
CALSCALE:GREGORIAN
METHOD:PUBLISH
X-ORIGINAL-URL:https://mumbairkm.org
X-WR-CALDESC:Events for RKM Mumbai
REFRESH-INTERVAL;VALUE=DURATION:PT1H
X-Robots-Tag:noindex
X-PUBLISHED-TTL:PT1H
BEGIN:VTIMEZONE
TZID:Asia/Kolkata
BEGIN:STANDARD
TZOFFSETFROM:+0530
TZOFFSETTO:+0530
TZNAME:IST
DTSTART:20230101T000000
END:STANDARD
END:VTIMEZONE
BEGIN:VEVENT
DTSTART;VALUE=DATE:20240202
DTEND;VALUE=DATE:20240203
DTSTAMP:20260421T154538
CREATED:20240109T075625Z
LAST-MODIFIED:20240109T075625Z
UID:25663-1706832000-1706918399@mumbairkm.org
SUMMARY:Swami Vivekananda Tithi Puja
DESCRIPTION:Swami Vivekananda Tithi Puja\nSwami Vivekananda Tithi Puja will be celebrated on Friday\, 2nd February 2024. \n\nLive streaming of the function would be made through the link www.youtube.com/rkmkhar/live \n\nClick Here To Download the Programme Details\n.
URL:https://mumbairkm.org/event/swami-vivekananda-tithi-puja-4/
CATEGORIES:Celebrations,Festivals
ATTACH;FMTTYPE=image/jpeg:https://mumbairkm.org/wp-content/uploads/2022/01/swami-vivekanand_1484202359.jpeg
END:VEVENT
BEGIN:VEVENT
DTSTART;VALUE=DATE:20240214
DTEND;VALUE=DATE:20240217
DTSTAMP:20260421T154538
CREATED:20240210T091155Z
LAST-MODIFIED:20240210T091155Z
UID:25786-1707868800-1708127999@mumbairkm.org
SUMMARY:Sri Saraswati Puja
DESCRIPTION:
URL:https://mumbairkm.org/event/sri-saraswati-puja-3/
CATEGORIES:Celebrations,Festivals
ATTACH;FMTTYPE=image/jpeg:https://mumbairkm.org/wp-content/uploads/2021/02/SARASWATI-MATA.jpg
END:VEVENT
END:VCALENDAR