BEGIN:VCALENDAR
VERSION:2.0
PRODID:-//RKM Mumbai - ECPv6.15.16//NONSGML v1.0//EN
CALSCALE:GREGORIAN
METHOD:PUBLISH
X-ORIGINAL-URL:https://mumbairkm.org
X-WR-CALDESC:Events for RKM Mumbai
REFRESH-INTERVAL;VALUE=DURATION:PT1H
X-Robots-Tag:noindex
X-PUBLISHED-TTL:PT1H
BEGIN:VTIMEZONE
TZID:Asia/Kolkata
BEGIN:STANDARD
TZOFFSETFROM:+0530
TZOFFSETTO:+0530
TZNAME:IST
DTSTART:20240101T000000
END:STANDARD
END:VTIMEZONE
BEGIN:VTIMEZONE
TZID:UTC
BEGIN:STANDARD
TZOFFSETFROM:+0000
TZOFFSETTO:+0000
TZNAME:UTC
DTSTART:20240101T000000
END:STANDARD
END:VTIMEZONE
BEGIN:VEVENT
DTSTART;TZID=Asia/Kolkata:20250816T200000
DTEND;TZID=Asia/Kolkata:20250816T233000
DTSTAMP:20260422T035305
CREATED:20240723T111125Z
LAST-MODIFIED:20250806T095205Z
UID:26242-1755374400-1755387000@mumbairkm.org
SUMMARY:Sri Krishna Janmashtami
DESCRIPTION:
URL:https://mumbairkm.org/event/sri-krishna-janmashtami-3/
CATEGORIES:Celebrations,Festivals
ATTACH;FMTTYPE=image/jpeg:https://mumbairkm.org/wp-content/uploads/2021/08/krishna-janmashtami.jpg
END:VEVENT
BEGIN:VEVENT
DTSTART;VALUE=DATE:20250827
DTEND;VALUE=DATE:20250830
DTSTAMP:20260422T035305
CREATED:20250721T100609Z
LAST-MODIFIED:20250806T095520Z
UID:28486-1756252800-1756511999@mumbairkm.org
SUMMARY:SRI SRI GANESH PUJA 2025
DESCRIPTION:
URL:https://mumbairkm.org/event/sri-sri-ganesh-puja-2025/
CATEGORIES:Celebrations,Festivals
ATTACH;FMTTYPE=image/jpeg:https://mumbairkm.org/wp-content/uploads/2021/08/ganesh-puja.jpg
END:VEVENT
BEGIN:VEVENT
DTSTART;TZID=Asia/Kolkata:20250911T160000
DTEND;TZID=Asia/Kolkata:20250911T190000
DTSTAMP:20260422T035305
CREATED:20250823T131206Z
LAST-MODIFIED:20250823T131206Z
UID:28521-1757606400-1757617200@mumbairkm.org
SUMMARY:Commemorative Function
DESCRIPTION:As part of our continued efforts to spread the timeless teachings of Swami Vivekananda and to inspire mankind with the Universal Ideas of Hinduism\, we are pleased to inform you that Ramakrishna Mission\, Mumbai\, is organising the following event in September 2025: \n\nCommemorative Celebration of Swami Vivekananda’s Historic Address at the World Parliament of Religions\, Chicago (11th September 1893)\nDate: Thursday\, 11th September 2025\nTime: 4:00 PM to 7:00 PM\nVenue: Vivekananda Auditorium\, Ramakrishna Mission\, Khar (W)\, Mumbai\n\n  \nWe are honoured to have Adv. Shri Ashish Shelar\, Hon’ble Minister\, Information & Broadcasting and Cultural Affairs\, Govt. of Maharashtra\, as the Chief Guest for the programme. \n  \nThis event will also feature deliberations by monks of the Ramakrishna Order\, highlighting the lasting impact and relevance of Swami Vivekananda’s representation of Hinduism on the World stage in today’s context. This program particularly focuses on religious and philosophical ideas of Hinduism as presented by Swami Vivekananda during his 15 years of wandering in India and abroad\, brought to us by his letters and speeches. This is to understand Hindu Dharma as realised by Swami Vivekananda. The details of the programme are attached herewith. \n  \nWe warmly invite you all to participate in large numbers and also encourage you to spread the word among interested fellow dharmikas\, colleagues\, youths\, and organisations. \n  \nPlease register for the program through the link given or by scanning the QR given in the program brochure by 5th September 2025. The Link for the registration is as follows: \nFILL THE GOOGLE FORM TO JOIN\nLINK GOOGLE FORM – https://forms.gle/owqkfmwkRVBowyN37
URL:https://mumbairkm.org/event/commemorative-function/
CATEGORIES:Celebrations,Festivals,Spiritual
ATTACH;FMTTYPE=image/jpeg:https://mumbairkm.org/wp-content/uploads/2025/08/COMMEMORATIVE-FUNCTION-web.jpg
END:VEVENT
BEGIN:VEVENT
DTSTART;VALUE=DATE:20250912
DTEND;VALUE=DATE:20250913
DTSTAMP:20260422T035305
CREATED:20250823T125947Z
LAST-MODIFIED:20250823T130044Z
UID:28514-1757635200-1757721599@mumbairkm.org
SUMMARY:VIVEKA WORKSHOP
DESCRIPTION:VIVEKA Workshop \n12th September 2025We request the colleges to join the programme in large numbers. \nCOLLEGE INVITE LETTER \nGoogle form for participation – for colleges \n  \nDOWNLOAD PROGRAMME
URL:https://mumbairkm.org/event/viveka-workshops-2/
CATEGORIES:Celebrations,Workshop
ATTACH;FMTTYPE=image/jpeg:https://mumbairkm.org/wp-content/uploads/2025/08/VIVEKA-WORKSHOP-12.09.25-WEB-scaled.jpg
END:VEVENT
BEGIN:VEVENT
DTSTART;VALUE=DATE:20250928
DTEND;VALUE=DATE:20251003
DTSTAMP:20260422T035305
CREATED:20250906T065522Z
LAST-MODIFIED:20250906T065522Z
UID:28526-1759017600-1759449599@mumbairkm.org
SUMMARY:SRI SRI DURGA PUJA 2025
DESCRIPTION:Sri Sri Durga Puja will be celebrated at the Ramakrishna Math & Ramakrishna Mission premises from Sunday\, 28th September 2025 to Thursday\, 2nd October 2025 as per the given programme details. All are cordially invited to attend the puja and other functions. \n  \n \nSHASHTHI - SUNDAY\, 28 SEPTEMBER 2025\n06.32 a.m.      Kalparambha \n06.30 p.m.      Amantran & Adhivas\nSAPTAMI - MONDAY\, 29 SEPTEMBER 2025\n06.32 a.m.       Saptami Puja\n12.30 p.m.       Pushpanjali (after Bhogarati)\nMAHASHTAMI - TUESDAY\, 30TH SEPTEMBER 2025\n06.32 a.m.         Ashtami Puja\n09.00 a.m.         KUMARI PUJA\n\n(Pushpanjali after Bhogarati)\n05.43 p.m. to 06.31 p.m.  SANDHI PUJA \n\nMAHANAVAMI - WEDNESDAY\, 1ST OCTOBER 2025\n06.32 a.m.             Puja\n12.30 P.m.             Pushpanjali (After Bhogarati)\n12.45 p.m.             HAVAN\nVIJAYADASHAMI - THURSDAY\, 2ND OCTOBER 2025\n07.30 a.m.             Dashami Puja \n08.30 a.m.             Pushpanjali \n10.00 a.m.             Darpan Visarjan\n04.00 p.m.            Immersion of image at Gandhi Ghat\, Juhu\nDOWNLOAD PROGRAMME DETAILS
URL:https://mumbairkm.org/event/sri-sri-durga-puja-2025/
CATEGORIES:Celebrations,Durga Puja,Festivals,Online,Spiritual
ATTACH;FMTTYPE=image/jpeg:https://mumbairkm.org/wp-content/uploads/2021/09/SAI_5994-scaled.jpg
END:VEVENT
BEGIN:VEVENT
DTSTART;TZID=Asia/Kolkata:20251006T180000
DTEND;TZID=Asia/Kolkata:20251007T170000
DTSTAMP:20260422T035305
CREATED:20250927T112929Z
LAST-MODIFIED:20250927T113452Z
UID:28611-1759773600-1759856400@mumbairkm.org
SUMMARY:Sri Sri Lakshmi Puja 2025
DESCRIPTION:SRI SRI LAKSHMI PUJA 2025\n \n  \n 
URL:https://mumbairkm.org/event/sri-sri-lakshmi-puja-2025/
CATEGORIES:Celebrations,Festivals,Online,Spiritual
ATTACH;FMTTYPE=image/jpeg:https://mumbairkm.org/wp-content/uploads/2021/10/LAKSHMI-PUJA.jpg
END:VEVENT
BEGIN:VEVENT
DTSTART;TZID=Asia/Kolkata:20251020T190000
DTEND;TZID=Asia/Kolkata:20251021T160000
DTSTAMP:20260422T035305
CREATED:20250927T115230Z
LAST-MODIFIED:20251015T132640Z
UID:28616-1760986800-1761062400@mumbairkm.org
SUMMARY:SRI SRI KALI PUJA 2025
DESCRIPTION:
URL:https://mumbairkm.org/event/sri-sri-kali-puja-2025/
CATEGORIES:Celebrations,Festivals,Kali Puja
ATTACH;FMTTYPE=image/jpeg:https://mumbairkm.org/wp-content/uploads/2021/10/KALI-PUJA-1-scaled-e1635767827400.jpg
END:VEVENT
BEGIN:VEVENT
DTSTART;VALUE=DATE:20251022
DTEND;VALUE=DATE:20251029
DTSTAMP:20260422T035305
CREATED:20251020T083448Z
LAST-MODIFIED:20251020T084056Z
UID:28822-1761091200-1761695999@mumbairkm.org
SUMMARY:Visit of Most Revered Swami Divyanandaji Maharaj
DESCRIPTION:MOST REVERED SRIMAT SWAMI DIVYANANDAJI MAHARAJ’S VISIT\nfrom 22-10-2025 to 28-10-2025 We are happy to announce the visit of Revered Swami Divyanandaji Maharaj\, Vice-President\, Ramakrishna Math and Ramakrishna Mission\, Belur Math. He has kindly consented to initiate (Mantra Diksha) the seekers of spiritual life on the 24th & 26th of October 2025. \n  \n  \n 
URL:https://mumbairkm.org/event/visit-of-most-revered-swami-divyanandaji-maharaj-3/
CATEGORIES:Celebrations,Spiritual
ATTACH;FMTTYPE=image/jpeg:https://mumbairkm.org/wp-content/uploads/2025/10/divyananda-featured-image-web-scaled.jpg
END:VEVENT
BEGIN:VEVENT
DTSTART;TZID=Asia/Kolkata:20251030T170000
DTEND;TZID=Asia/Kolkata:20251101T190000
DTSTAMP:20260422T035305
CREATED:20251027T063359Z
LAST-MODIFIED:20251027T063359Z
UID:28828-1761843600-1762023600@mumbairkm.org
SUMMARY:Discourse by Swami Sukhananda
DESCRIPTION:
URL:https://mumbairkm.org/event/discourse-by-swami-sukhananda-4/
CATEGORIES:Celebrations,Classes,Online,Spiritual
ATTACH;FMTTYPE=image/jpeg:https://mumbairkm.org/wp-content/uploads/2025/10/Bharat-Prasang-Ramcharitmanas-by-Swami-Sukhananda-2025-scaled.jpg
END:VEVENT
BEGIN:VEVENT
DTSTART;TZID=Asia/Kolkata:20251116T183000
DTEND;TZID=Asia/Kolkata:20251116T200000
DTSTAMP:20260422T035305
CREATED:20251030T061519Z
LAST-MODIFIED:20251030T061519Z
UID:28832-1763317800-1763323200@mumbairkm.org
SUMMARY:Discourse by Swami Ishatmananda
DESCRIPTION:
URL:https://mumbairkm.org/event/discourse-by-swami-ishatmananda/
CATEGORIES:Celebrations,Classes,Online,Spiritual
ATTACH;FMTTYPE=image/jpeg:https://mumbairkm.org/wp-content/uploads/2025/10/ishatmananda-discourse-web-scaled.jpg
END:VEVENT
BEGIN:VEVENT
DTSTART;TZID=Asia/Kolkata:20251207T183000
DTEND;TZID=Asia/Kolkata:20251207T200000
DTSTAMP:20260422T035305
CREATED:20251125T095711Z
LAST-MODIFIED:20251125T095738Z
UID:28846-1765132200-1765137600@mumbairkm.org
SUMMARY:Discourse by Swami Sarvasthananda
DESCRIPTION:
URL:https://mumbairkm.org/event/discourse-by-swami-ishatmananda-2/
CATEGORIES:Celebrations,Classes,Online,Spiritual
ATTACH;FMTTYPE=image/jpeg:https://mumbairkm.org/wp-content/uploads/2025/11/sarvasthananda-discourse-07.12.25-WEB.jpg
END:VEVENT
BEGIN:VEVENT
DTSTART;VALUE=DATE:20251211
DTEND;VALUE=DATE:20251212
DTSTAMP:20260422T035305
CREATED:20251124T115007Z
LAST-MODIFIED:20251124T115007Z
UID:28842-1765411200-1765497599@mumbairkm.org
SUMMARY:Holy Mother Tithi Puja
DESCRIPTION:Ma Sarada Devi Tithi Puja\nHoly Mother Tithi Puja will be celebrated on Thursday\, 11 December 2025. \n\nLive streaming of the function would be made through the link www.youtube.com/rkmkhar/live. \n\nClick Here To Download the Programme Details\n.
URL:https://mumbairkm.org/event/holy-mother-tithi-puja-4/
CATEGORIES:Celebrations,Festivals
ATTACH;FMTTYPE=image/jpeg:https://mumbairkm.org/wp-content/uploads/2021/12/MATAJI-with-lotus-1600x900-1.jpg
END:VEVENT
BEGIN:VEVENT
DTSTART;VALUE=DATE:20251215
DTEND;VALUE=DATE:20251216
DTSTAMP:20260422T035305
CREATED:20251125T100818Z
LAST-MODIFIED:20251125T100818Z
UID:28856-1765756800-1765843199@mumbairkm.org
SUMMARY:Swami Shivananda Tithi Puja
DESCRIPTION:SWAMI SHIVANANDA\nPre-monastic name: Taraknath Ghoshal\nDate of Birth: 16 December 1854\nPlace of Birth: Barasat\, east of Kolkata \nSpecial Puja and Homa will be performed on the occasion of 171st Birthday (Tithi Puja) of Swami Shivananda on Monday\, 15th December 2025 from 7.00 am onwards. There will be also a discourse on the Life of Swami Shivananda by Swami Divyeshananda after Evening Arati at Universal Temple\, Ramakrishna Math\, Mumbai.\nPROGRAMME DETAILS \n \nSWAMI SHIVANANDA\nIn accordance with the custom of those days\, Tarak was married in his teens but\, with the consent of his young wife\, he lived an absolutely chaste life. Years later\, when Swami Vivekananda came to know of this\, he called him ‘Mahapurush’ which meant ‘great soul’\, and since then he came to be known as ‘Mahapurush Maharaj’. \nAfter completing school final\, Tarak took up a job in order to help his father. But he used to practice spiritual disciplines. He saw Sri Ramakrishna for the first time at the house of Ramachandra Datta in May 1880. A few days later he went to Dakshineswar and surrendered himself fully to Sri Ramakrishna. From then on he began to practice intense prayer and meditation under the Master’s guidance. Three years later his wife died; Tarak renounced hearth and home and started living sometimes in a devotee’s house and sometimes in lonely places. \nAfter the Master’s mahasamadhi\, when Baranagar Math was started\, Tarak was one of the first to join the brotherhood. With sannyasa ordination\, he received the name Shivananda. He\, however\, spent several years leading an intensely contemplative life at different places in north India\, and returned to Math in 1896. \nWhen Swami Vivekananda founded the Ramakrishna Mission in 1897\, he sent Swami Shivananda to Ceylon (now Sri Lanka) to spread Vedanta there. A year later Swami Shivananda returned to Math. In 1902\, just before Swami Vivekananda’s mahasamadhi\, he went to Varanasi to start the Advaita Ashrama thereof which he remained the head for seven years. In 1910 he was elected Vice-President of Ramakrishna Mission. In 1922\, after the passing of Swami Brahmananda\, he became the second President of Ramakrishna Math and Mission. He travelled to different places blessing sincere seekers with spiritual initiation. Like Swami Brahmananda\, he stressed meditation along with work. He gave great importance to prayer as a form of Sadhana. He was full of love and compassion\, and sincere seekers flocked to him. \nIn April 1933 he suffered a stroke and developed paralysis of one side. On 20 February 1934\, a few days after Sri Ramakrishna’s birthday\, Mahapurush Maharaj left the body for the heavenly abode. His memory is kept alive at Belur Math in the small room adjacent to the Old Shrine. \nsource: https://belurmath.org/swami-shivananda/
URL:https://mumbairkm.org/event/swami-shivananda-tithi-puja-6/
CATEGORIES:Celebrations
ATTACH;FMTTYPE=image/jpeg:https://mumbairkm.org/wp-content/uploads/2020/09/02-Swami-Shivanandaji_-480x270-1.jpg
END:VEVENT
BEGIN:VEVENT
DTSTART;TZID=Asia/Kolkata:20251224T180000
DTEND;TZID=Asia/Kolkata:20251224T210000
DTSTAMP:20260422T035305
CREATED:20251125T101045Z
LAST-MODIFIED:20251125T101045Z
UID:28859-1766599200-1766610000@mumbairkm.org
SUMMARY:CHRISTMAS EVE
DESCRIPTION:CHRISTMAS EVE CELEBRATION  \nWEDNESDAY\, 24TH DECEMBER 2025 \n\n\n\n\n\nTime\nProgramme\n\n\n\n\n6.15 pm\nEvening Arati of Bhagawan Sri Ramakrishna\n\n\n6.45 pm\nWorship of Lord Jesus Christ and Christmas Carols\n\n\n7.00 pm\nDiscourse on Importance of Christmas Eve in Ramakrishna Order and Reading from The Holy Bible (in English)\n\n\n7.30 pm\nClosing Song\n\n\n\n\nLive streaming of Christmas Eve would be made through the link www.youtube.com/rkmkhar/live.
URL:https://mumbairkm.org/event/christmas-eve-6/
LOCATION:Ramakrishna Math and Ramakrishna Mission\, Ramakrishna Mission Marg 12th Road\, Khar (West)\, Mumbai\, Maharashtra\, 400052\, India
CATEGORIES:Celebrations
ATTACH;FMTTYPE=image/jpeg:https://mumbairkm.org/wp-content/uploads/2020/12/IMG_20191224_184715_1.jpg
ORGANIZER;CN="Ramakrishna Math":MAILTO:mumrkmweb@gmail.com
END:VEVENT
BEGIN:VEVENT
DTSTART;TZID=Asia/Kolkata:20260102T190000
DTEND;TZID=Asia/Kolkata:20260102T210000
DTSTAMP:20260422T035305
CREATED:20251125T103601Z
LAST-MODIFIED:20251125T103601Z
UID:28868-1767380400-1767387600@mumbairkm.org
SUMMARY:Swami Turiyananda Tithi Puja
DESCRIPTION:Swami Turiyananda\nPre-Monastic Name: Harinath Chattopadhya\nPlace of Birth – North Kolkata\nDate of Birth – 3rd January 1863 \nSwami Turiyananda was born on 3rd January 1863 to Chandranath Chattopadhya an orthodox Brahmin who worked for a British firm in Kolkata\, and had the power to foretell the future. \nHe met Sri Ramakrishna for the first time some time in 1876-77\, at the age of 13 or 14 at Dinanath Basu’s house in Kolkata. \nAround 1880\, he went to Dakshineswar and visited the Master again\, and gradually became familiar with Sri Ramakrishna. \nIn January 1887\, he took final monastic vows with other brother disciples by performing the traditional viraja homa in front of the Master’s picture. \nA few years later\, he left the Baranagore Monastery and went to Rishikesh\, Gangotri\, and other places in the Himalayas\, and settled in Rajpur on the Mussoorie hills to practise Sadhana. He also travelled with his brother disciples to various places in the country. \nIn June 1899\, he left for England and America with Swami Vivekananda and Sister Nivedita. He gave lectures on Vedanta on Swamiji’s command. He was a living example of Vedanta to all. In July 1900\, on the train from New York to California\, just before Swamiji got off the train at Detroit\, he asked Swamiji about his future work\, and was told “Go and establish the ashrama in California. Hoist the flag of Vedanta there. From this moment\, destroy even the memory of India. Mother will do the rest”. He then established the “Shanti Ashrama” \nAt the ‘Shanti Ashrama’\, he freely distributed the greatest spiritual treasures of Vedanta to the American students. He lived a life and trained enabled others to live the life as well. \nIn late 1901\, due to ill health\, left for India in May 1902 (after a period of 2 years 9 months stay in the US). He handed the Ashrama to one of his disciples – Gurudas. His only desire at this time was to see Swamiji (Swami Vivekananda). During his voyage\, he learnt from a passenger’s newspaper that Swamiji had passed away\, and changed all plans for work. Now he wanted to immerse his life in meditation and austerity.\nThe then went to live at Vrindavan like a traditional monk. He travelled to many place\, and practised severe austerities neglecting his body completely\, and thus also suffering tremendous ill health. \nIn February 1919\, he went to Varanasi and lived there till the end of his life for 3½ years. He passed away at 6.45 pm on 21 July 1922\, at Varanasi. \nSwami Turiyananda was indeed an awakener of souls. His fiery words to his students were: “Clench your fists and say: I will conquer! Now or never – make this your motto\, even in this life I must see God. That is the only way. Never postpone.” \nThere will be a discourse on the Life of Swami Turiyananda by Swami Tannamananda on Friday\, 2nd January 2026 after Evening Arati at Universal Temple\, Ramakrishna Math\, Mumbai. \nThe discourse will also be streamed live on our YouTube channel https://www.youtube.com/rkmkhar/live
URL:https://mumbairkm.org/event/swami-turiyananda-tithi-puja-6/
CATEGORIES:Celebrations,Festivals
ATTACH;FMTTYPE=image/jpeg:https://mumbairkm.org/wp-content/uploads/2020/09/12-Sw-Turiyananda-Mj-480x270-1.jpg
END:VEVENT
BEGIN:VEVENT
DTSTART;VALUE=DATE:20260110
DTEND;VALUE=DATE:20260111
DTSTAMP:20260422T035305
CREATED:20251125T112549Z
LAST-MODIFIED:20251230T121506Z
UID:28878-1768003200-1768089599@mumbairkm.org
SUMMARY:Swami Vivekananda Tithi Puja
DESCRIPTION:Swami Vivekananda Tithi Puja\nSwami Vivekananda Tithi Puja will be celebrated on Saturday\, 10th January 2026. \n\nLive streaming of the function would be made through the link www.youtube.com/rkmkhar/live \n\nClick Here To Download the Programme Details\n.
URL:https://mumbairkm.org/event/swami-vivekananda-tithi-puja-6/
CATEGORIES:Celebrations,Festivals,Online,Spiritual
ATTACH;FMTTYPE=image/jpeg:https://mumbairkm.org/wp-content/uploads/2022/01/swami-vivekanand_1484202359.jpeg
END:VEVENT
BEGIN:VEVENT
DTSTART;VALUE=DATE:20260112
DTEND;VALUE=DATE:20260113
DTSTAMP:20260422T035305
CREATED:20260105T132202Z
LAST-MODIFIED:20260105T134506Z
UID:28897-1768176000-1768262399@mumbairkm.org
SUMMARY:National Youth Day 2026
DESCRIPTION:NATIONAL YOUTH DAY \n12th January 2026We request the colleges to join the programme in large numbers. \nCOLLEGE INVITE \nDISPLAY OF POSTER FOR COLLEGES
URL:https://mumbairkm.org/event/national-youth-day-2026/
CATEGORIES:Celebrations
ATTACH;FMTTYPE=image/jpeg:https://mumbairkm.org/wp-content/uploads/2026/01/NYD26-WEB-scaled.jpg
END:VEVENT
BEGIN:VEVENT
DTSTART;VALUE=DATE:20260113
DTEND;VALUE=DATE:20260114
DTSTAMP:20260422T035305
CREATED:20260105T132449Z
LAST-MODIFIED:20260105T134421Z
UID:28903-1768262400-1768348799@mumbairkm.org
SUMMARY:VIVEKA WORKSHOP 2026
DESCRIPTION:VIVEKA Workshop \n13th January 2026We request the colleges to join the programme in large numbers. \nCOLLEGE INVITE \nGoogle form for participation – for colleges
URL:https://mumbairkm.org/event/viveka-workshop-2026/
CATEGORIES:Celebrations
ATTACH;FMTTYPE=image/jpeg:https://mumbairkm.org/wp-content/uploads/2026/01/VIVEKA-WORKSHOP-13.01.26-WEB-scaled.jpg
END:VEVENT
BEGIN:VEVENT
DTSTART;VALUE=DATE:20260123
DTEND;VALUE=DATE:20260125
DTSTAMP:20260422T035305
CREATED:20251125T112741Z
LAST-MODIFIED:20260116T102111Z
UID:28880-1769126400-1769299199@mumbairkm.org
SUMMARY:Sri Saraswati Puja 2026
DESCRIPTION:
URL:https://mumbairkm.org/event/sri-saraswati-puja-2026/
CATEGORIES:Celebrations,Festivals
ATTACH;FMTTYPE=image/jpeg:https://mumbairkm.org/wp-content/uploads/2021/02/SARASWATI-MATA.jpg
END:VEVENT
BEGIN:VEVENT
DTSTART;VALUE=DATE:20260204
DTEND;VALUE=DATE:20260205
DTSTAMP:20260422T035305
CREATED:20260130T120008Z
LAST-MODIFIED:20260130T120045Z
UID:28912-1770163200-1770249599@mumbairkm.org
SUMMARY:Visit of Most Revered Swami Divyanandaji Maharaj
DESCRIPTION:MOST REVERED SRIMAT SWAMI DIVYANANDAJI MAHARAJ’S VISIT\non 04.02.2026 We are pleased to announce the visit of Revered Swami Divyanandaji Maharaj\, Vice-President of the Ramakrishna Math and Ramakrishna Mission\, Belur Math\, on February 4\, 2026. \n  \n  \n 
URL:https://mumbairkm.org/event/visit-of-most-revered-swami-divyanandaji-maharaj-4/
CATEGORIES:Celebrations,Spiritual
ATTACH;FMTTYPE=image/jpeg:https://mumbairkm.org/wp-content/uploads/2026/01/Divyanandaji-Maharajs-visit-04.02.2026-web-scaled.jpg
END:VEVENT
BEGIN:VEVENT
DTSTART;TZID=Asia/Kolkata:20260315T193000
DTEND;TZID=Asia/Kolkata:20260315T210000
DTSTAMP:20260422T035305
CREATED:20260311T062957Z
LAST-MODIFIED:20260311T062957Z
UID:30050-1773603000-1773608400@mumbairkm.org
SUMMARY:Discourse by Swami Baneshananda
DESCRIPTION:
URL:https://mumbairkm.org/event/discourse-by-swami-baneshananda/
CATEGORIES:Celebrations,Classes,Online,Spiritual
ATTACH;FMTTYPE=image/jpeg:https://mumbairkm.org/wp-content/uploads/2026/03/discourse-swami-baneshananda-15.03.26-web.jpg
END:VEVENT
BEGIN:VEVENT
DTSTART;VALUE=DATE:20260416
DTEND;VALUE=DATE:20260427
DTSTAMP:20260422T035305
CREATED:20260318T103636Z
LAST-MODIFIED:20260323T111251Z
UID:30117-1776297600-1777247999@mumbairkm.org
SUMMARY:Visit of Revered Srimat Swami Vimalatmanandaji Maharaj
DESCRIPTION:REVERED SRIMAT SWAMI VIMALATMANANDAJI MAHARAJ’S VISIT\nfrom 16-04-2026 to 26-04-2026 We are happy to announce the visit of Revered Swami Vimalatmanandaji Maharaj\, Vice-President\, Ramakrishna Math and Ramakrishna Mission\, Belur Math. He has kindly consented to initiate (Mantra Diksha) the seekers of spiritual life on the 18th of April 2026. Revered Maharaj will also grace the Foundation Day Celebrations from 19th to 26th April 2026 \n  \n  \n  \nFoundation Day Celebrations
URL:https://mumbairkm.org/event/visit-of-most-revered-swami-vimalatmanandaji-maharaj/
CATEGORIES:Celebrations,Spiritual
ATTACH;FMTTYPE=image/jpeg:https://mumbairkm.org/wp-content/uploads/2026/03/vimalatmananda-visit-website.jpg
END:VEVENT
BEGIN:VEVENT
DTSTART;VALUE=DATE:20260419
DTEND;VALUE=DATE:20260427
DTSTAMP:20260422T035305
CREATED:20260318T100735Z
LAST-MODIFIED:20260327T101319Z
UID:30057-1776556800-1777247999@mumbairkm.org
SUMMARY:Foundation Day Celebrations
DESCRIPTION: Dear Devotees and Friends\, \nOur namaskar and best regards. \nWe are pleased to invite you to the Foundation Day Celebrations of Ramakrishna Math and Ramakrishna Mission\, Mumbai\, which will be observed from 18th April to 26th April 2026\, as per the programme schedule. \nRevered Srimat Swami Vimalatmanandaji Maharaj\, Vice-President of the Ramakrishna Math and Ramakrishna Mission\, Belur Math\, will grace the occasion and bless the devotees during the celebrations. Revered Monks from other branch centres of Maharashtra & Goa will also grace these occasions. \nDuring these auspicious days\, several spiritual programmes will be held\, including Mantra Diksha\, Special Puja on Akshaya Tritiya\, the Annual Public Celebrations of the Holy Trio\, and a Spiritual Retreat\, providing devotees an opportunity to participate in worship\, spiritual practices\, and satsanga. \nIn addition to these programmes\, two significant events will mark this year’s Foundation Day Celebrations. On 19th April 2026\, the Handing-over Charge of the Mumbai Centre to the newly appointed Adhyaksha/Secretary will take place. Further\, on the sacred occasion of Adi Shankaracharya Jayanti\, 21st April 2026\, the Consecration Ceremony of Ramakrishna Mission\, Nashik\, a newly proposed sub-centre of Ramakrishna Mission\, Mumbai\, will be performed through the holy hands of Revered Srimat Swami Vimalatmanandaji Maharaj. This ceremony marks an important milestone in the spiritual and service activities of the Order in the region. \nDevotees who wish to attend the Consecration Ceremony at the Nashik Centre will have to borne expenses of their accommodation arrangements at:\nShri Gajanan Maharaj Sansthan\, Jawahar Road\, Trimbak\, Maharashtra – 422212\nBooking Link: https://shrigajananmaharajhotelbooking.co.in/\nContact: +91 9982559493\n(Tentative Tariff: 3 Beds Rs. 500/-\, 4 Beds Rs. 550/-\, 10 Beds Rs. 950/-)\n Alternatively\, devotees can book the accommodation through Ramakrishna Mission by paying the requisite amount. \nFor the convenience of devotees\, a 40-seater AC bus will depart from the Mumbai Ashrama on 20th April at 3:00 pm. Devotees desirous of availing this facility may do so at a nominal charge of Rs. 500/- for the to-and-fro journey. The bus will return on 21st April after the conclusion of the Consecration Ceremony. \nWe cordially invite you\, along with your family and friends to participate in these holy celebrations and receive the blessings of Sri Ramakrishna\, Sri Sarada Devi\, and Swami Vivekananda. \nFoundation Day Puja (Akshaya Tritiya) – 19 AprilConsecration Ceremony – 21 AprilAnnual Public Celebration – 24 & 25 AprilSpiritual Retreat – 26 AprilDownload Full Program
URL:https://mumbairkm.org/event/foundation-day-celebrations-2/
CATEGORIES:Celebrations,Festivals,Spiritual
ATTACH;FMTTYPE=image/jpeg:https://mumbairkm.org/wp-content/uploads/2026/03/website1-1-scaled.jpg
END:VEVENT
BEGIN:VEVENT
DTSTART;TZID=Asia/Kolkata:20260516T193000
DTEND;TZID=Asia/Kolkata:20260516T233000
DTSTAMP:20260422T035305
CREATED:20260421T113037Z
LAST-MODIFIED:20260421T113037Z
UID:30150-1778959800-1778974200@mumbairkm.org
SUMMARY:Shodashi Puja
DESCRIPTION: \n\n  \n\n\n\n\n  \nHistory and Significance: \nOn 5th June 1872\, on Phalaharini Kali-puja night\, Bhagawan Sri Ramakrishna worshipped Sarada Devi as Shodashi\, the Mother of the Universe. The Mother of the Universe is variously worshipped —as Durga\, Kali\, Tara\, Shodashi and so on. But\, in his room\, he uttered the “mantras” which are related to Shodashi and worshipped Sarada Devi duly with flowers\, bel leaves and sweets\, among other things.
URL:https://mumbairkm.org/event/shodashi-puja-6/
CATEGORIES:Celebrations
ATTACH;FMTTYPE=image/jpeg:https://mumbairkm.org/wp-content/uploads/2021/05/SHODASHI-PUJA-FALAHARINI-KALI-PUJA.jpg
END:VEVENT
END:VCALENDAR