BEGIN:VCALENDAR
VERSION:2.0
PRODID:-//RKM Mumbai - ECPv6.15.16//NONSGML v1.0//EN
CALSCALE:GREGORIAN
METHOD:PUBLISH
X-WR-CALNAME:RKM Mumbai
X-ORIGINAL-URL:https://mumbairkm.org
X-WR-CALDESC:Events for RKM Mumbai
REFRESH-INTERVAL;VALUE=DURATION:PT1H
X-Robots-Tag:noindex
X-PUBLISHED-TTL:PT1H
BEGIN:VTIMEZONE
TZID:Asia/Kolkata
BEGIN:STANDARD
TZOFFSETFROM:+0530
TZOFFSETTO:+0530
TZNAME:IST
DTSTART:20200101T000000
END:STANDARD
END:VTIMEZONE
BEGIN:VEVENT
DTSTART;TZID=Asia/Kolkata:20210903T173000
DTEND;TZID=Asia/Kolkata:20210903T183000
DTSTAMP:20260424T180921
CREATED:20210816T084739Z
LAST-MODIFIED:20210816T084739Z
UID:23101-1630690200-1630693800@mumbairkm.org
SUMMARY:Ekadasi / Ram Naam Sankirtanam
DESCRIPTION:Ekadasi is one of the regular festivals celebrated in all centres of the Ramakrishna Math & Ramakrishna Mission across the world and Ramnama Sankirtanam is sung by the congregation on this day.\nThe singing of this Sankirtanam was started by Srimat Swami Brahmanandaji Maharaj who was the spiritual son of Sri Ramakrishna. He was also the first President of the Ramakrishna Sangha.\nOnce during the singing of the Sankirtanam in the Ramakrishna Mission Sevashrama at Varanasi\, Swami Brahmanandaji Maharaj had the Darshan of Sri Hanuman.\nThe 108 slokas of the Ramnama Sankirtanam\, contain a brief and succinct description of the Divine Play of Maryada Purshottam Sri Rama – as if the ocean has been filled into a small pot! (The cassette/ CD for the Ramnama Sankirtanam is also available at the bookshop.)\nThe Ramnama Sankirtanam would be streamed live one hour before evening arati on our youtube channel www.youtube.com/rkmkhar
URL:https://mumbairkm.org/event/ekadasi-ram-naam-sankirtanam-16/
CATEGORIES:Ekadashi
ATTACH;FMTTYPE=image/jpeg:https://mumbairkm.org/wp-content/uploads/2021/01/ekadashi.jpg
END:VEVENT
BEGIN:VEVENT
DTSTART;TZID=Asia/Kolkata:20210910T080000
DTEND;TZID=Asia/Kolkata:20210911T170000
DTSTAMP:20260424T180921
CREATED:20210816T081237Z
LAST-MODIFIED:20210816T085207Z
UID:23090-1631260800-1631379600@mumbairkm.org
SUMMARY:SRI SRI GANESH PUJA 2021
DESCRIPTION:CLICK HERE TO DOWNLOAD THE PROGRAMME DETAILS
URL:https://mumbairkm.org/event/sri-sri-ganesh-puja-2021/
CATEGORIES:Celebrations
ATTACH;FMTTYPE=image/jpeg:https://mumbairkm.org/wp-content/uploads/2021/08/ganesh-puja.jpg
END:VEVENT
BEGIN:VEVENT
DTSTART;TZID=Asia/Kolkata:20210917T173000
DTEND;TZID=Asia/Kolkata:20210917T183000
DTSTAMP:20260424T180921
CREATED:20210816T084855Z
LAST-MODIFIED:20210816T084916Z
UID:23103-1631899800-1631903400@mumbairkm.org
SUMMARY:Ekadasi / Ram Naam Sankirtanam
DESCRIPTION:Ekadasi is one of the regular festivals celebrated in all centres of the Ramakrishna Math & Ramakrishna Mission across the world and Ramnama Sankirtanam is sung by the congregation on this day.\nThe singing of this Sankirtanam was started by Srimat Swami Brahmanandaji Maharaj who was the spiritual son of Sri Ramakrishna. He was also the first President of the Ramakrishna Sangha.\nOnce during the singing of the Sankirtanam in the Ramakrishna Mission Sevashrama at Varanasi\, Swami Brahmanandaji Maharaj had the Darshan of Sri Hanuman.\nThe 108 slokas of the Ramnama Sankirtanam\, contain a brief and succinct description of the Divine Play of Maryada Purshottam Sri Rama – as if the ocean has been filled into a small pot! (The cassette/ CD for the Ramnama Sankirtanam is also available at the bookshop.)\nThe Ramnama Sankirtanam would be streamed live one hour before evening arati on our youtube channel www.youtube.com/rkmkhar
URL:https://mumbairkm.org/event/ekadasi-ram-naam-sankirtanam-17/
CATEGORIES:Ekadashi
ATTACH;FMTTYPE=image/jpeg:https://mumbairkm.org/wp-content/uploads/2021/01/ekadashi.jpg
END:VEVENT
BEGIN:VEVENT
DTSTART;TZID=Asia/Kolkata:20210930T190000
DTEND;TZID=Asia/Kolkata:20210930T210000
DTSTAMP:20260424T180921
CREATED:20210925T080638Z
LAST-MODIFIED:20210925T084600Z
UID:23115-1633028400-1633035600@mumbairkm.org
SUMMARY:Swami Abhedananda Tithi Puja
DESCRIPTION:SWAMI ABHEDANANDA\n Pre-monastic name : Kali Prasad Chandra\n Date of Birth : 2 October 1866\n Place of Birth : North Kolkata \n\n\n\n\n\nBorn in a fairly well-to-do family\, Kali had a great eagerness to learn yoga from his boyhood. He gained a good grounding in Sanskrit and English. At the age of 18\, when he was studying for the school final examination\, he went to Dakshineswar and met Sri Ramakrishna. Under the guidance of the Master\, Kali practised meditation and was soon blessed with several visions. \n\n\n\n\n\nKali became a frequent visitor to Dakshineswar. He served the Master during his last illness. After the Master’s passing away\, he joined the Baranagar Math and underwent sannyasa ordination\, assuming the name Swami Abhedananda. At the Baranagar Math he used to shut himself up in a room and do intense meditation or study. This earned him the sobriquet “Kali Tapasvi”. He spent several years visiting places of pilgrimage on foot.\n\n\n\n\n\n\n\nIn 1896 Swami Vivekananda brought him to London for Vedanta work there. The next year he crossed over to USA and was given charge of the newly founded New York Vedanta centre. His profundity of scholarship\, incisive intellect and oratorical power elicited widespread admiration\, and people thronged to listen to him. He was also a prolific writer and his books on life after death\, etc are famous. \n\n\n\n\n\n\n\n\n\nAfter his long and successful work in America Swami Abhedananda returned to India in 1923. Soon he established a separate organization named Ramakrishna Vedanta Math and started living at the new centre. However\, he maintained cordial relationship with his brother monks at Belur Math which he visited occasionally. He presided over the Parliament of Religions at the Town Hal\, Kolkata\, as a part of the celebration of the Birth Centenary of Sri Ramakrishna.\n\n\n\n\n\n\n\n\n\n\n\nHe left the mortal frame on 8 September 1939. Of all the contributions that Swami Abhedananda made to Ramakrishna Movement\, the most widely appreciated and enduring one is his composition of sublime and beautiful hymns (in Sanskrit) on Sri Ramakrishna and Sri Sarada Devi. His hymn to Holy Mother beginning with Prakritim paramam abhayam varadam\, which is sung in many ashramas and homes\, is unrivalled in the depth of conception and felicity of expression. \n\n\n\n\n\nsource: https://belurmath.org/swami-abhedananda/ \nThere will be a discourse on the life & teachings of Swami Abhedanandaji Maharaj after evening arati by Swami Kalyanatmananda. The discourse will be streamed live on our YouTube channel https://www.youtube.com/rkmkhar/live
URL:https://mumbairkm.org/event/swami-abhedananda-tithi-puja/
ATTACH;FMTTYPE=image/jpeg:https://mumbairkm.org/wp-content/uploads/2021/09/Swami-Abhedananda-Mj-Image2-1.jpg
END:VEVENT
END:VCALENDAR