BEGIN:VCALENDAR
VERSION:2.0
PRODID:-//RKM Mumbai - ECPv6.15.16//NONSGML v1.0//EN
CALSCALE:GREGORIAN
METHOD:PUBLISH
X-WR-CALNAME:RKM Mumbai
X-ORIGINAL-URL:https://mumbairkm.org
X-WR-CALDESC:Events for RKM Mumbai
REFRESH-INTERVAL;VALUE=DURATION:PT1H
X-Robots-Tag:noindex
X-PUBLISHED-TTL:PT1H
BEGIN:VTIMEZONE
TZID:Asia/Kolkata
BEGIN:STANDARD
TZOFFSETFROM:+0530
TZOFFSETTO:+0530
TZNAME:IST
DTSTART:20200101T000000
END:STANDARD
END:VTIMEZONE
BEGIN:VEVENT
DTSTART;TZID=Asia/Kolkata:20211002T173000
DTEND;TZID=Asia/Kolkata:20211002T183000
DTSTAMP:20260424T163416
CREATED:20210925T095912Z
LAST-MODIFIED:20210925T095912Z
UID:23120-1633195800-1633199400@mumbairkm.org
SUMMARY:Ekadasi / Ram Naam Sankirtanam
DESCRIPTION:Ekadasi is one of the regular festivals celebrated in all centres of the Ramakrishna Math & Ramakrishna Mission across the world and Ramnama Sankirtanam is sung by the congregation on this day.\nThe singing of this Sankirtanam was started by Srimat Swami Brahmanandaji Maharaj who was the spiritual son of Sri Ramakrishna. He was also the first President of the Ramakrishna Sangha.\nOnce during the singing of the Sankirtanam in the Ramakrishna Mission Sevashrama at Varanasi\, Swami Brahmanandaji Maharaj had the Darshan of Sri Hanuman.\nThe 108 slokas of the Ramnama Sankirtanam\, contain a brief and succinct description of the Divine Play of Maryada Purshottam Sri Rama – as if the ocean has been filled into a small pot! (The cassette/ CD for the Ramnama Sankirtanam is also available at the bookshop.)\nThe Ramnama Sankirtanam would be streamed live one hour before evening arati on our youtube channel www.youtube.com/rkmkhar
URL:https://mumbairkm.org/event/ekadasi-ram-naam-sankirtanam-18/
CATEGORIES:Ekadashi
ATTACH;FMTTYPE=image/jpeg:https://mumbairkm.org/wp-content/uploads/2021/01/ekadashi.jpg
END:VEVENT
BEGIN:VEVENT
DTSTART;TZID=Asia/Kolkata:20211006T190000
DTEND;TZID=Asia/Kolkata:20211006T210000
DTSTAMP:20260424T163416
CREATED:20210925T100554Z
LAST-MODIFIED:20210925T100716Z
UID:23122-1633546800-1633554000@mumbairkm.org
SUMMARY:Swami Akhandananda Tithi Puja
DESCRIPTION:SWAMI AKHANDANANDA\nPre-monastic name : Gangadhar Gangopadhyay\nDate of Birth : 30 September 1864\nPlace of Birth : Kolkata \n\n\nBorn in an orthodox family Gangadhar lived a pure\, disciplined life from boyhood. At the age of nineteen he went to Dakshineswar Kali temple. Sri Ramakrishna received him cordially and gave him several instructions. Since then he started visiting the Master and also cultivated friendship with the other young disciples\, particularly with Naren (later\, Swami Vivekananda). \nWhen the Baranagar Math was formed after Sri Ramakrishna’s mahasamadhi\, Gangadhar did not join it immediately. Instead\, he set out on a long pilgrimage in 1886 which took him to different places in the Himalayas and Tibet. After three and a half years\, he returned to Baranagar monastery in June 1890. He then took sannyasa vows formally and assumed the name Akhandananda. \n\n\nIn mid-July 1890 Swami Akhandananda again set out\, this time in the company of Swami Vivekananda\, on a pilgrimage which took them to different places in the Himalayas. When Swamiji left for the West\, Akhandananda continued his wanderings in western India. Towards the end of 1895 he returned to the Math which had been shifted to Alambazar in Kolkata. When Swami Vivekananda\, after his return from the West\, reached Kolkata in February 1897\, Swami Akhandananda enthusiastically participated in the reception accorded to Swamiji.\n\n\n\nAfter a few days\, when Swamiji left for Darjeeling\, Akhandananda travelled towards Murshidabad. Reaching there he was distressed to find a famine raging. He immediately started famine relief work with whatever he could collect. Later Swami Vivekananda sent more funds and the relief operation was organized on a full scale. This was the first relief operation organized by Ramakrishna Mission. \n\n\n\n\n\n\nAfter relief work Akhandananda started an ashrama with an orphanage in Sargachhi\, in the Murshidabad district. He served the orphan boys as manifestations of God. \nIn 1934\, after the passing away of Swami Shivananda\, Swami Akhandananda became the President of Ramakrishna Math and Mission. From that time he divided his time between Belur Math and Sargachhi. He participated in the celebration of the Birth Centenary of Sri Ramakrishna in 1936. Owing to old-age ailments he became weak. He passed away on 7 February 1937. \n\n\n\n\n\nSource: https://belurmath.org/swami-akhandananda/ \nThere will be a discourse on the life & teachings of Swami Akhandanandaji Maharaj after evening arati by Swami Devakantyananda. The discourse will be streamed live on our YouTube channel https://www.youtube.com/rkmkhar/live
URL:https://mumbairkm.org/event/swami-akhandananda-tithi-puja/
ATTACH;FMTTYPE=image/jpeg:https://mumbairkm.org/wp-content/uploads/2021/09/Swami-Akhandananda-event2.jpg
END:VEVENT
BEGIN:VEVENT
DTSTART;VALUE=DATE:20211011
DTEND;VALUE=DATE:20211017
DTSTAMP:20260424T163416
CREATED:20210925T112156Z
LAST-MODIFIED:20211006T100915Z
UID:23125-1633910400-1634428799@mumbairkm.org
SUMMARY:SRI SRI DURGA PUJA
DESCRIPTION:IMPORTANT NOTICE Temple will remain closed for Devotees/Public for Darshan from 10th October to 15th October 2021 during Sri Sri Durga Puja as per MCGM guidelines on Navaratri public celebration. \nInconvenience caused is regretted. \nHowever\, live streaming of the entire Sri Sri Durga Puja event would be made through the link www.youtube.com/rkmkhar/live. or you can visit our YouTube channel “rkmkhar” \n \nSHASHTHI - MONDAY\, 11TH OCTOBER 2021\n06.40 a.m.      Kalparambha \n06.40 p.m.      Bodhan\, Amantran & Adhivas\nSAPTAMI - TUESDAY\, 12TH OCTOBER 2021\n06.40 a.m.       Saptami Puja\nMAHASHTAMI - WEDNESDAY\, 13TH OCTOBER 2021\n06.40 a.m.         Ashtami Puja\n09.30 a.m.         KUMARI PUJA\n07.44 p.m. to 08.32 p.m.  SANDHI PUJA\nMAHANAVAMI - THURSDAY\, 14TH OCTOBER 2021\n06.40 a.m.             Puja\n12.45 p.m.             HAVAN\nVIJAYADASHAMI - FRIDAY\, 15TH OCTOBER 2021\n07.30 a.m.             Dashami Puja \n08.50 a.m.             Pushpanjali \n09.15 a.m.             Darpan Visarjan\n04.00 p.m.            Immersion of image at Gandhi Ghat\, Juhu\n \nCLICK HERE TO WATCH DURGA PUJA ONLINE \nDOWNLOAD PROGRAMME DETAILS
URL:https://mumbairkm.org/event/sri-sri-durga-puja/
ATTACH;FMTTYPE=image/jpeg:https://mumbairkm.org/wp-content/uploads/2021/09/SAI_5994-scaled.jpg
END:VEVENT
BEGIN:VEVENT
DTSTART;TZID=Asia/Kolkata:20211016T170000
DTEND;TZID=Asia/Kolkata:20211016T183000
DTSTAMP:20260424T163416
CREATED:20211008T085236Z
LAST-MODIFIED:20211008T085236Z
UID:23145-1634403600-1634409000@mumbairkm.org
SUMMARY:Ekadasi / Ram Naam Sankirtanam
DESCRIPTION:Ekadasi is one of the regular festivals celebrated in all centres of the Ramakrishna Math & Ramakrishna Mission across the world and Ramnama Sankirtanam is sung by the congregation on this day.\nThe singing of this Sankirtanam was started by Srimat Swami Brahmanandaji Maharaj who was the spiritual son of Sri Ramakrishna. He was also the first President of the Ramakrishna Sangha.\nOnce during the singing of the Sankirtanam in the Ramakrishna Mission Sevashrama at Varanasi\, Swami Brahmanandaji Maharaj had the Darshan of Sri Hanuman.\nThe 108 slokas of the Ramnama Sankirtanam\, contain a brief and succinct description of the Divine Play of Maryada Purshottam Sri Rama – as if the ocean has been filled into a small pot! (The cassette/ CD for the Ramnama Sankirtanam is also available at the bookshop.)\nThe Ramnama Sankirtanam would be streamed live one hour before evening arati on our youtube channel www.youtube.com/rkmkhar
URL:https://mumbairkm.org/event/ekadasi-ram-naam-sankirtanam-19/
CATEGORIES:Ekadashi
ATTACH;FMTTYPE=image/jpeg:https://mumbairkm.org/wp-content/uploads/2021/01/ekadashi.jpg
END:VEVENT
BEGIN:VEVENT
DTSTART;TZID=Asia/Kolkata:20211020T180000
DTEND;TZID=Asia/Kolkata:20211021T170000
DTSTAMP:20260424T163416
CREATED:20211008T085844Z
LAST-MODIFIED:20211020T121536Z
UID:23147-1634752800-1634835600@mumbairkm.org
SUMMARY:Sri Sri Lakshmi Puja
DESCRIPTION:SRI SRI LAKSHMI PUJA \n \nTemple will remain open for Devotees/Public for Darshan from 16th October 2021 onwards as per the Maharashtra Government guidelines on Temple Reopening. Devotees/Public will not be allowed to sit in the Temple.  \nLive streaming of the entire Sri Sri Lakshmi Puja event would be made through the link www.youtube.com/rkmkhar/live. Please do join us live online and spread the word around. 
URL:https://mumbairkm.org/event/sri-sri-lakshmi-puja/
ATTACH;FMTTYPE=image/jpeg:https://mumbairkm.org/wp-content/uploads/2021/10/LAKSHMI-PUJA.jpg
END:VEVENT
END:VCALENDAR