BEGIN:VCALENDAR
VERSION:2.0
PRODID:-//RKM Mumbai - ECPv6.15.16//NONSGML v1.0//EN
CALSCALE:GREGORIAN
METHOD:PUBLISH
X-WR-CALNAME:RKM Mumbai
X-ORIGINAL-URL:https://mumbairkm.org
X-WR-CALDESC:Events for RKM Mumbai
REFRESH-INTERVAL;VALUE=DURATION:PT1H
X-Robots-Tag:noindex
X-PUBLISHED-TTL:PT1H
BEGIN:VTIMEZONE
TZID:Asia/Kolkata
BEGIN:STANDARD
TZOFFSETFROM:+0530
TZOFFSETTO:+0530
TZNAME:IST
DTSTART:20200101T000000
END:STANDARD
END:VTIMEZONE
BEGIN:VEVENT
DTSTART;TZID=Asia/Kolkata:20211101T170000
DTEND;TZID=Asia/Kolkata:20211101T183000
DTSTAMP:20260422T165401
CREATED:20211008T090736Z
LAST-MODIFIED:20211008T090736Z
UID:23152-1635786000-1635791400@mumbairkm.org
SUMMARY:Ekadasi / Ram Naam Sankirtanam
DESCRIPTION:Ekadasi is one of the regular festivals celebrated in all centres of the Ramakrishna Math & Ramakrishna Mission across the world and Ramnama Sankirtanam is sung by the congregation on this day.\nThe singing of this Sankirtanam was started by Srimat Swami Brahmanandaji Maharaj who was the spiritual son of Sri Ramakrishna. He was also the first President of the Ramakrishna Sangha.\nOnce during the singing of the Sankirtanam in the Ramakrishna Mission Sevashrama at Varanasi\, Swami Brahmanandaji Maharaj had the Darshan of Sri Hanuman.\nThe 108 slokas of the Ramnama Sankirtanam\, contain a brief and succinct description of the Divine Play of Maryada Purshottam Sri Rama – as if the ocean has been filled into a small pot! (The cassette/ CD for the Ramnama Sankirtanam is also available at the bookshop.)\nThe Ramnama Sankirtanam would be streamed live one hour before evening arati on our youtube channel www.youtube.com/rkmkhar
URL:https://mumbairkm.org/event/ekadasi-ram-naam-sankirtanam-20/
CATEGORIES:Ekadashi
ATTACH;FMTTYPE=image/jpeg:https://mumbairkm.org/wp-content/uploads/2021/01/ekadashi.jpg
END:VEVENT
BEGIN:VEVENT
DTSTART;TZID=Asia/Kolkata:20211104T190000
DTEND;TZID=Asia/Kolkata:20211105T160000
DTSTAMP:20260422T165401
CREATED:20211008T091533Z
LAST-MODIFIED:20211104T114949Z
UID:23154-1636052400-1636128000@mumbairkm.org
SUMMARY:SRI SRI KALI PUJA
DESCRIPTION:
URL:https://mumbairkm.org/event/sri-sri-kali-puja/
ATTACH;FMTTYPE=image/jpeg:https://mumbairkm.org/wp-content/uploads/2021/10/KALI-PUJA-1-scaled-e1635767827400.jpg
END:VEVENT
BEGIN:VEVENT
DTSTART;TZID=Asia/Kolkata:20211115T170000
DTEND;TZID=Asia/Kolkata:20211115T183000
DTSTAMP:20260422T165401
CREATED:20211008T091648Z
LAST-MODIFIED:20211008T091648Z
UID:23158-1636995600-1637001000@mumbairkm.org
SUMMARY:Ekadasi / Ram Naam Sankirtanam
DESCRIPTION:Ekadasi is one of the regular festivals celebrated in all centres of the Ramakrishna Math & Ramakrishna Mission across the world and Ramnama Sankirtanam is sung by the congregation on this day.\nThe singing of this Sankirtanam was started by Srimat Swami Brahmanandaji Maharaj who was the spiritual son of Sri Ramakrishna. He was also the first President of the Ramakrishna Sangha.\nOnce during the singing of the Sankirtanam in the Ramakrishna Mission Sevashrama at Varanasi\, Swami Brahmanandaji Maharaj had the Darshan of Sri Hanuman.\nThe 108 slokas of the Ramnama Sankirtanam\, contain a brief and succinct description of the Divine Play of Maryada Purshottam Sri Rama – as if the ocean has been filled into a small pot! (The cassette/ CD for the Ramnama Sankirtanam is also available at the bookshop.)\nThe Ramnama Sankirtanam would be streamed live one hour before evening arati on our youtube channel www.youtube.com/rkmkhar
URL:https://mumbairkm.org/event/ekadasi-ram-naam-sankirtanam-21/
CATEGORIES:Ekadashi
ATTACH;FMTTYPE=image/jpeg:https://mumbairkm.org/wp-content/uploads/2021/01/ekadashi.jpg
END:VEVENT
BEGIN:VEVENT
DTSTART;TZID=Asia/Kolkata:20211116T190000
DTEND;TZID=Asia/Kolkata:20211116T203000
DTSTAMP:20260422T165401
CREATED:20211112T102745Z
LAST-MODIFIED:20211123T100453Z
UID:23402-1637089200-1637094600@mumbairkm.org
SUMMARY:Swami Subodhananda Jayanti
DESCRIPTION:SWAMI SUBODHANANDA \nPre-monastic name : Subodh Chandra Ghosh endearingly called ‘Khoka Maharaj’ \nDate of Birth : 8 November 1867. \nPlace of Birth : Kolkata \nBorn in an affluent family\, Subodh was spiritually inclined from boyhood. While studying in class eight he heard about Sri Ramakrishna from his father who was a follower of Brahmo Samaj. One day in 1884 Subodh walked all the way to Dakshineswar in the company of a friend. Sri Ramakrishna received them with great love. After that Subodh went to the Master several times. Owing to the opposition of his parents\, he could not stay with Sri Ramakrishna or serve him during his last illness. But the Master understood his difficulty and made him his own through his boundless love. \nHe joined the Baranagar Math and was ordained a sannyasin bearing the name Subodhananda. Since he was only nineteen and the youngest of the group\, he was endearingly called ‘Khoka’ (which means ‘child’) by Swamiji and other monastic brothers. He spent several years travelling in different parts of India performing tapasya. After Swami Vivekananda’s return from the West when Belur Math monastery was established\, he felt himself quite at home there. He visited East Bengal (now Bangladesh) twice and inspired many people with his talks and loving conduct. All through his life he combined in himself the simplicity of a child and the wisdom of an illumined soul. He passed away in Belur Math on 2 December 1932.\nSource: https://belurmath.org/swami-subodhananda/ \nThere will be a discourse on the life & teachings of Swami Subodhanandaji Maharaj after evening arati by Swami Tannamananda. The discourse will be streamed live on our YouTube channel https://www.youtube.com/rkmkhar/live\n 
URL:https://mumbairkm.org/event/swami-subodhananda-jayanti/
LOCATION:Ramakrishna Math and Ramakrishna Mission\, Ramakrishna Mission Marg 12th Road\, Khar (West)\, Mumbai\, Maharashtra\, 400052\, India
ATTACH;FMTTYPE=image/jpeg:https://mumbairkm.org/wp-content/uploads/2021/11/Swami-Subodhananda-1200x900-1.jpg
ORGANIZER;CN="Ramakrishna Math":MAILTO:mumrkmweb@gmail.com
END:VEVENT
BEGIN:VEVENT
DTSTART;TZID=Asia/Kolkata:20211118T183000
DTEND;TZID=Asia/Kolkata:20211118T200000
DTSTAMP:20260422T165401
CREATED:20211112T112215Z
LAST-MODIFIED:20211112T112215Z
UID:23409-1637260200-1637265600@mumbairkm.org
SUMMARY:Swami Vijnanananda Tithi Puja
DESCRIPTION:SWAMI VIJNANANANDA\nPre-monastic name : Hari Prasanna Chatterjee\nDate of Birth : 30 October 1868\nPlace of Birth : Etawah in Uttar Pradesh \n\n\n\n\n\nHari Prasanna had the good fortune to see Sri Ramakrishna when he was a small boy. He met the Master when he was studying at St. Xavier’s College where Sharat (later\, Swami Saradananda) was his classmate. During the first meeting\, Sharat was with him. Later he visited the Master alone several times. Sri Ramakrishna gave him important instructions regarding spiritual life and blessed him in several ways. \nAfter completing his studies in Kolkata\, Hari Prasanna went to Bankimpur in Bihar and entered Patna College to study for BA degree. There he learned about the passing away of Sri Ramakrishna and also saw him in a vision. After graduation\, he went to Poona College of Science to study Civil Engineering. After receiving his engineering degree in 1892 he got the job of district engineer at Gazipur. However\, the fire of renunciation which Sri Ramakrishna had lighted in him\, was burning\, and he finally renounced the world in 1896 and joined the Alambazar Math where the disciples of Sri Ramakrishna were staying. \n\n\n\n\n\nWhen the Belur Math property was purchased\, Hari Prasanna’s knowledge of engineering proved to be a great asset. His first task was to remodel the existing building and build new ones including the shrine. The consecration of the new premises took place on 9 December 1898. Another major work he executed at Belur Math was the construction of a strong embankment on the bank of the Ganga in front of the main building. Another most important work that he undertook was the preparation of a plan for a new temple of Sri Ramakrishna based on the ideas given by Swami Vivekananda and supervising its construction. On 9 May 1899 Hari Prasanna formally took sannyasa and assumed the name Vijnanananda.\n\n\n\n\n\n\n\nSwami Vivekananda asked Vijnanananda to start a new centre in Allahabad and\, accordingly\, Vijnanananda left Belur Math in 1900. In Allahabad he lived a more or less secluded life\, immersed in sadhana\, reading and writing. He also went on pilgrimage to many places. On the demise of Swami Akhandananda\, the third President of Ramakrishna Math and Mission\, Swami Vijnanananda became the next President in March 1937. As President of the Order\, Vijnanananda was full of love and compassion and initiated many people into spiritual life. On 14 January 1938\, Swami Vijnanananda performed the dedication of the new temple of Sri Ramakrishna at Belur Math. He spent his last days in Allahabad and entered mahasamadhi on 25 April 1938. \n\n\n\n\n\nSource: https://belurmath.org/swami-vijnanananda/ \n \n  \nThere will be a discourse on the life & teachings of Swami Vijnananandaji Maharaj after evening arati by Swami Jishnudevananda. The discourse will be streamed live on our YouTube channel https://www.youtube.com/rkmkhar/live
URL:https://mumbairkm.org/event/swami-vijnanananda-tithi-puja/
ATTACH;FMTTYPE=image/jpeg:https://mumbairkm.org/wp-content/uploads/2021/11/Swami-Vijnanananda-480x270-1.jpg
END:VEVENT
BEGIN:VEVENT
DTSTART;TZID=Asia/Kolkata:20211119T183000
DTEND;TZID=Asia/Kolkata:20211119T203000
DTSTAMP:20260422T165401
CREATED:20211112T121313Z
LAST-MODIFIED:20211112T121353Z
UID:23414-1637346600-1637353800@mumbairkm.org
SUMMARY:Guru Nanak Jayanti
DESCRIPTION:There will be a discourse on Life & Teachings of Guru Nanak Dev ji by Swami Divyeshananda after evening Arati on Friday\, November 19\, 2021. The discourse will be streamed live on our YouTube channel https://www.youtube.com/rkmkhar/live.
URL:https://mumbairkm.org/event/guru-nanak-jayanti/
ATTACH;FMTTYPE=image/jpeg:https://mumbairkm.org/wp-content/uploads/2021/11/Guru-Nanak-Dev-Quotes-in-Hind.jpg
END:VEVENT
BEGIN:VEVENT
DTSTART;TZID=Asia/Kolkata:20211130T170000
DTEND;TZID=Asia/Kolkata:20211130T183000
DTSTAMP:20260422T165401
CREATED:20211112T121536Z
LAST-MODIFIED:20211112T121536Z
UID:23417-1638291600-1638297000@mumbairkm.org
SUMMARY:Ekadasi / Ram Naam Sankirtanam
DESCRIPTION:Ekadasi is one of the regular festivals celebrated in all centres of the Ramakrishna Math & Ramakrishna Mission across the world and Ramnama Sankirtanam is sung by the congregation on this day.\nThe singing of this Sankirtanam was started by Srimat Swami Brahmanandaji Maharaj who was the spiritual son of Sri Ramakrishna. He was also the first President of the Ramakrishna Sangha.\nOnce during the singing of the Sankirtanam in the Ramakrishna Mission Sevashrama at Varanasi\, Swami Brahmanandaji Maharaj had the Darshan of Sri Hanuman.\nThe 108 slokas of the Ramnama Sankirtanam\, contain a brief and succinct description of the Divine Play of Maryada Purshottam Sri Rama – as if the ocean has been filled into a small pot! (The cassette/ CD for the Ramnama Sankirtanam is also available at the bookshop.)\nThe Ramnama Sankirtanam would be streamed live one hour before evening arati on our youtube channel www.youtube.com/rkmkhar
URL:https://mumbairkm.org/event/ekadasi-ram-naam-sankirtanam-22/
CATEGORIES:Ekadashi
ATTACH;FMTTYPE=image/jpeg:https://mumbairkm.org/wp-content/uploads/2021/01/ekadashi.jpg
END:VEVENT
END:VCALENDAR