BEGIN:VCALENDAR
VERSION:2.0
PRODID:-//RKM Mumbai - ECPv6.15.16//NONSGML v1.0//EN
CALSCALE:GREGORIAN
METHOD:PUBLISH
X-ORIGINAL-URL:https://mumbairkm.org
X-WR-CALDESC:Events for RKM Mumbai
REFRESH-INTERVAL;VALUE=DURATION:PT1H
X-Robots-Tag:noindex
X-PUBLISHED-TTL:PT1H
BEGIN:VTIMEZONE
TZID:Asia/Kolkata
BEGIN:STANDARD
TZOFFSETFROM:+0530
TZOFFSETTO:+0530
TZNAME:IST
DTSTART:20210101T000000
END:STANDARD
END:VTIMEZONE
BEGIN:VEVENT
DTSTART;VALUE=DATE:20220101
DTEND;VALUE=DATE:20220102
DTSTAMP:20260422T125405
CREATED:20211231T090851Z
LAST-MODIFIED:20211231T091112Z
UID:23587-1640995200-1641081599@mumbairkm.org
SUMMARY:KALPATARU DAY 2022
DESCRIPTION:KALPATARU DAY\nSaturday\, 1st January 2022 \nIn the last couple of days\, Covid cases in Mumbai have rapidly gone up. Some of our staff have already detected positive. Further\, monks supposed to conduct the programme have taken ill. In the circumstances\, all the programmes on Kalpataru Day remain cancelled. Temple will remain open during usual time i.e. morning 5.00 am to 11.30 am and evening 4.00 pm to 9.00 pm. Sitting in the temple is strictly prohibited.
URL:https://mumbairkm.org/event/kalpataru-day-2021-2/
LOCATION:Ramakrishna Math and Ramakrishna Mission\, Ramakrishna Mission Marg 12th Road\, Khar (West)\, Mumbai\, Maharashtra\, 400052\, India
ATTACH;FMTTYPE=image/jpeg:https://mumbairkm.org/wp-content/uploads/2020/12/kalpataruday-294x2011-1.jpg
ORGANIZER;CN="Ramakrishna Math":MAILTO:mumrkmweb@gmail.com
END:VEVENT
BEGIN:VEVENT
DTSTART;TZID=Asia/Kolkata:20220108T183000
DTEND;TZID=Asia/Kolkata:20220108T210000
DTSTAMP:20260422T125405
CREATED:20220104T105927Z
LAST-MODIFIED:20220104T113726Z
UID:23600-1641666600-1641675600@mumbairkm.org
SUMMARY:Swami Saradananda Tithi Puja
DESCRIPTION:Swami Saradananda\n Premonastic name: Sharat Chandra Chakravarty\nDate of Birth: 23 December 1865\nPlace of Birth: Kolkata \n\n\n\n\n\nBorn in an affluent family\, Sharat was always calm and quiet and pious in his boyhood. He joined the medical college with the idea of becoming a doctor\, but discontinued his studies in order to serve Sri Ramakrishna. Along with his cousin Shashi (who stayed with Sharat’s family) he joined the Brahmo Samaj\, and in 1883 they went together to Dakshineswar. Sri Ramakrishna drew them to him like a powerful magnet. During the Master’s last illness Sharat also\, like Shashi\, dedicated himself to serving the Master day and night. \nAfter the Master’s passing\, Sharat joined the Baranagar monastery and took the vows of sannyasa assuming the name Swami Saradananda. After spending a few years in pilgrimage and tapasya along with his brother monks\, he returned to Baranagar Math in 1891. When Swami Vivekananda started extensive preaching work in the West\, and felt the need for another brother monk to assist him\, Swami Saradananda was brought to the United States in 1896. His calm and gentle disposition\, courteous and loving manners and able exposition of Vedanta won him many friends and admirers in America. \n\n\n\n\n\nBut Swami Vivekananda\, who founded the Ramakrishna Mission soon after his return to India in 1897\, saw that a highly capable person like Saradananda was necessary to manage the affairs of the Math and the Mission. So Saradananda was called back to Kolkata and made the General Secretary of Ramakrishna Math and the Mission\, a post which he held for nearly three decades till the end of his life. By his mature wisdom\, clear thinking\, the strength of mind and devotion to Sri Ramakrishna and Holy Mother\, he guided the course of the twin organizations in those formative years when political agitation against the British rule was gaining momentum in India.\n\n\n\n\n\n\n\nApart from his important work as General Secretary\, Swami Saradananda is remembered for several other types of great service that he rendered. The first one was his taking over the Udbodhan\, the Bengali journal of Ramakrishna Math and Mission\, as its editor and publisher in 1902 when Swami Trigunatitananda left for America. The second one was taking upon himself the full responsibility of looking after the needs of the Holy Mother whether she stayed in Jayrambati or Kolkata. His third work was writing the monumental biography of Sri Ramakrishna known as Sri Ramakrishna Lila Prasanga in Bengali (translated later into English under the title Sri Ramakrishna the Great Master). His last great work was the construction of the temple dedicated to Holy Mother in 1921 on the spot where her sacred body was cremated in Belur Math\, and another temple at Mother’s birthplace in Jayrambati in 1923. \nHe was loved and respected by hundreds of people. He was a great support\, especially to women. In the first week of August 1927 he suffered a stroke. Two weeks later on 19 August 1927\, he breathed his last. \n\n\n\n\n\n\nSource: https://belurmath.org/swami-saradananda/ \n\nThere will be a discourse on Life of Swami Saradananda by Swami Tannamananda on Saturday\, 8th January 2022 after Evening Arati at Universal Temple\, Ramakrishna Math\, Mumbai. \nThe discourse will be streamed live on our YouTube channel https://www.youtube.com/rkmkhar/live
URL:https://mumbairkm.org/event/swami-saradananda-tithi-puja/
ATTACH;FMTTYPE=image/jpeg:https://mumbairkm.org/wp-content/uploads/2022/01/Saradananda-Mj.jpg
END:VEVENT
BEGIN:VEVENT
DTSTART;TZID=Asia/Kolkata:20220112T180000
DTEND;TZID=Asia/Kolkata:20220112T210000
DTSTAMP:20260422T125405
CREATED:20220112T101146Z
LAST-MODIFIED:20220112T102103Z
UID:23619-1642010400-1642021200@mumbairkm.org
SUMMARY:National Youth Day & Azadi Ka Amrit Mahotsav
DESCRIPTION:NATIONAL YOUTH DAY \n&\nAZADI KA AMRIT MAHOTSAVNOTE: AS PER THE GUIDELINES ISSUED BY THE MUNICIPAL CORPORATION OF GREATER MUMBAI PHYSICAL PARTICIPATION OF THE DEVOTEES/PUBLIC IS PROHIBITED. THE PROGRAMME WILL BE STREAMED LIVE ON OUR YOUTUBE CHANNEL “RKMKHAR”.
URL:https://mumbairkm.org/event/national-youth-day-azadi-ka-amrit-mahotsav/
CATEGORIES:Celebrations
ATTACH;FMTTYPE=image/jpeg:https://mumbairkm.org/wp-content/uploads/2022/01/FEATURED-IMAGE-National-Youth-Day_Invitation-2022.jpg
END:VEVENT
BEGIN:VEVENT
DTSTART;TZID=Asia/Kolkata:20220113T170000
DTEND;TZID=Asia/Kolkata:20220113T180000
DTSTAMP:20260422T125405
CREATED:20220104T061241Z
LAST-MODIFIED:20220104T061241Z
UID:23592-1642093200-1642096800@mumbairkm.org
SUMMARY:Ekadasi / Ram Naam Sankirtanam
DESCRIPTION:Ekadasi is one of the regular festivals celebrated in all centres of the Ramakrishna Math & Ramakrishna Mission across the world and Ramnama Sankirtanam is sung by the congregation on this day. \nThe singing of this Sankirtanam was started by Srimat Swami Brahmanandaji Maharaj who was the spiritual son of Sri Ramakrishna. He was also the first President of the Ramakrishna Sangha. \nOnce during the singing of the Sankirtanam in the Ramakrishna Mission Sevashrama at Varanasi\, Swami Brahmanandaji Maharaj had the Darshan of Sri Hanuman. \nThe 108 slokas of the Ramnama Sankirtanam\, contain a brief and succinct description of the Divine Play of Maryada Purshottam Sri Rama – as if the ocean has been filled into a small pot! (The cassette/ CD for the Ramnama Sankirtanam is also available at the bookshop.) \nThe Ramnama Sankirtanam would be streamed live one hour before evening arati on our youtube channel www.youtube.com/rkmkhar
URL:https://mumbairkm.org/event/ekadasi-ram-naam-sankirtanam-25/
CATEGORIES:Ekadashi
ATTACH;FMTTYPE=image/jpeg:https://mumbairkm.org/wp-content/uploads/2021/01/ekadashi.jpg
END:VEVENT
BEGIN:VEVENT
DTSTART;TZID=Asia/Kolkata:20220116T190000
DTEND;TZID=Asia/Kolkata:20220116T210000
DTSTAMP:20260422T125405
CREATED:20220104T064133Z
LAST-MODIFIED:20220104T064133Z
UID:23596-1642359600-1642366800@mumbairkm.org
SUMMARY:Swami Turiyananda Tithi Puja
DESCRIPTION:Swami Turiyananda\nPre-Monastic Name: Harinath Chattopadhya\nPlace of Birth – North Kolkata\nDate of Birth – 3rd January 1863 \nSwami Turiyananda was born on 3rd January 1863 to Chandranath Chattopadhya an orthodox Brahmin who worked for a British firm in Kolkata\, and had the power to foretell the future. \nHe met Sri Ramakrishna for the first time some time in 1876-77\, at the age of 13 or 14 at Dinanath Basu’s house in Kolkata. \nAround 1880\, he went to Dakshineswar and visited the Master again\, and gradually became familiar with Sri Ramakrishna. \nIn January 1887\, he took final monastic vows with other brother disciples by performing the traditional viraja homa in front of the Master’s picture. \nA few years later\, he left the Baranagore Monastery and went to Rishikesh\, Gangotri\, and other places in the Himalayas\, and settled in Rajpur on the Mussoorie hills to practise Sadhana. He also travelled with his brother disciples to various places in the country. \nIn June 1899\, he left for England and America with Swami Vivekananda and Sister Nivedita. He gave lectures on Vedanta on Swamiji’s command. He was a living example of Vedanta to all. In July 1900\, on the train from New York to California\, just before Swamiji got off the train at Detroit\, he asked Swamiji about his future work\, and was told “Go and establish the ashrama in California. Hoist the flag of Vedanta there. From this moment\, destroy even the memory of India. Mother will do the rest”. He then established the “Shanti Ashrama” \nAt the ‘Shanti Ashrama’\, he freely distributed the greatest spiritual treasures of Vedanta to the American students. He lived a life and trained enabled others to live the life as well. \nIn late 1901\, due to ill health\, left for India in May 1902 (after a period of 2 years 9 months stay in the US). He handed the Ashrama to one of his disciples – Gurudas. His only desire at this time was to see Swamiji (Swami Vivekananda). During his voyage\, he learnt from a passenger’s newspaper that Swamiji had passed away\, and changed all plans for work. Now he wanted to immerse his life in meditation and austerity.\nThe then went to live at Vrindavan like a traditional monk. He travelled to many place\, and practised severe austerities neglecting his body completely\, and thus also suffering tremendous ill health. \nIn February 1919\, he went to Varanasi and lived there till the end of his life for 3½ years. He passed away at 6.45 pm on 21 July 1922\, at Varanasi. \nSwami Turiyananda was indeed an awakener of souls. His fiery words to his students were: “Clench your fists and say: I will conquer! Now or never – make this your motto\, even in this life I must see God. That is the only way. Never postpone.” \nThere will be a discourse on Life of Swami Turiyananda by Swami Jyotiratmananda on Sunday\, 16th January 2022 after Evening Arati at Universal Temple\, Ramakrishna Math\, Mumbai. \nThe discourse will be streamed live on our YouTube channel https://www.youtube.com/rkmkhar/live
URL:https://mumbairkm.org/event/swami-turiyananda-tithi-puja-2/
CATEGORIES:Celebrations,Festivals
ATTACH;FMTTYPE=image/jpeg:https://mumbairkm.org/wp-content/uploads/2020/09/12-Sw-Turiyananda-Mj-480x270-1.jpg
END:VEVENT
BEGIN:VEVENT
DTSTART;VALUE=DATE:20220125
DTEND;VALUE=DATE:20220126
DTSTAMP:20260422T125405
CREATED:20220114T052528Z
LAST-MODIFIED:20220114T052528Z
UID:23626-1643068800-1643155199@mumbairkm.org
SUMMARY:Swami Vivekananda Tithi Puja
DESCRIPTION:Swami Vivekananda Tithi Puja\nSwami Vivekananda Tithi Puja will be celebrated on Tuesday\, 25th January 2022. \nIMPORTANT NOTICE\nAs per the guidelines issued by the MCGM on Temple Reopening\, devotees/public can have physical darshan\, but sitting in the Temple is not allowed. Live streaming of the functions would be made through the link www.youtube.com/rkmkhar/live. \nमंदिर पुन्हा उघडण्याबाबत मुंबई महानगरपालिकेने जारी केलेल्या मार्गदर्शक तत्त्वांनुसार\, भक्त/जनता प्रत्यक्ष दर्शन घेऊ शकतात\, परंतु त्यांस मंदिरात बसण्याची परवानगी नाही. सर्व कार्यक्रम आमच्या यूट्यूब चॅनल च्या माध्यमातून (www.youtube.com/rkmkhar/live) थेट प्रवाहित केले जातील. \n\nLive streaming of the function would be made through the link www.youtube.com/rkmkhar/live \n\nClick Here To Download the Programme Details\n.
URL:https://mumbairkm.org/event/swami-vivekananda-tithi-puja-2/
CATEGORIES:Celebrations,Festivals
ATTACH;FMTTYPE=image/jpeg:https://mumbairkm.org/wp-content/uploads/2022/01/swami-vivekanand_1484202359.jpeg
END:VEVENT
BEGIN:VEVENT
DTSTART;TZID=Asia/Kolkata:20220128T170000
DTEND;TZID=Asia/Kolkata:20220128T180000
DTSTAMP:20260422T125405
CREATED:20220104T061333Z
LAST-MODIFIED:20220104T061333Z
UID:23594-1643389200-1643392800@mumbairkm.org
SUMMARY:Ekadasi / Ram Naam Sankirtanam
DESCRIPTION:Ekadasi is one of the regular festivals celebrated in all centres of the Ramakrishna Math & Ramakrishna Mission across the world and Ramnama Sankirtanam is sung by the congregation on this day. \nThe singing of this Sankirtanam was started by Srimat Swami Brahmanandaji Maharaj who was the spiritual son of Sri Ramakrishna. He was also the first President of the Ramakrishna Sangha. \nOnce during the singing of the Sankirtanam in the Ramakrishna Mission Sevashrama at Varanasi\, Swami Brahmanandaji Maharaj had the Darshan of Sri Hanuman. \nThe 108 slokas of the Ramnama Sankirtanam\, contain a brief and succinct description of the Divine Play of Maryada Purshottam Sri Rama – as if the ocean has been filled into a small pot! (The cassette/ CD for the Ramnama Sankirtanam is also available at the bookshop.) \nThe Ramnama Sankirtanam would be streamed live one hour before evening arati on our youtube channel www.youtube.com/rkmkhar
URL:https://mumbairkm.org/event/ekadasi-ram-naam-sankirtanam-26/
CATEGORIES:Ekadashi
ATTACH;FMTTYPE=image/jpeg:https://mumbairkm.org/wp-content/uploads/2021/01/ekadashi.jpg
END:VEVENT
END:VCALENDAR